BEGIN:VCALENDAR
VERSION:2.0
PRODID:-//Pickwick &amp; Cherry - ECPv6.14.1//NONSGML v1.0//EN
CALSCALE:GREGORIAN
METHOD:PUBLISH
X-WR-CALNAME:Pickwick &amp; Cherry
X-ORIGINAL-URL:https://www.pickwickandcherry.com
X-WR-CALDESC:Events for Pickwick &amp; Cherry
REFRESH-INTERVAL;VALUE=DURATION:PT1H
X-Robots-Tag:noindex
X-PUBLISHED-TTL:PT1H
BEGIN:VTIMEZONE
TZID:America/Chicago
BEGIN:DAYLIGHT
TZOFFSETFROM:-0600
TZOFFSETTO:-0500
TZNAME:CDT
DTSTART:20260308T080000
END:DAYLIGHT
BEGIN:STANDARD
TZOFFSETFROM:-0500
TZOFFSETTO:-0600
TZNAME:CST
DTSTART:20261101T070000
END:STANDARD
END:VTIMEZONE
BEGIN:VTIMEZONE
TZID:UTC
BEGIN:STANDARD
TZOFFSETFROM:+0000
TZOFFSETTO:+0000
TZNAME:UTC
DTSTART:20260101T000000
END:STANDARD
END:VTIMEZONE
BEGIN:VEVENT
DTSTART;TZID=America/Chicago:20260501T183000
DTEND;TZID=America/Chicago:20260501T210000
DTSTAMP:20260424T140534
CREATED:20260225T194206Z
LAST-MODIFIED:20260225T194206Z
UID:10002990-1777660200-1777669200@www.pickwickandcherry.com
SUMMARY:Georgian Supra Date Night Cooking Experience
DESCRIPTION:About Our Georgian Cooking Class\nWhether Georgia is already one of your favorite cuisines or you’re discovering it for the first time\, we can’t wait to welcome you to Georgian Supra—our celebration of the rich\, ancient food culture of the Eastern European/West Asian nation of Georgia. (We love the Peach State too\, but this menu comes from the other one—the one with mountains\, monasteries\, and 8\,000 years of winemaking tradition.) \nA supra is a traditional Georgian feast: a generous\, abundant table filled with vibrant dishes\, heartfelt hospitality\, and food meant to be shared. This spirit of welcome has been central to Georgian life for millennia\, shaped by the country’s position at the crossroads of Europe and Asia. Archaeological discoveries reveal that Georgia is home to some of the world’s earliest winemaking sites\, where clay qvevri vessels were used to ferment grapes thousands of years before the first amphora appeared in Greece or Rome. That same deep history—of wine\, of trade\, of craftsmanship—shaped the bold\, unforgettable flavors that make this cuisine so compelling today. \nGeorgian food is true East-meets-West fusion in the best possible way. Expect a balance of bright pomegranate and earthy walnuts\, fresh herbs and cultured dairy\, smoky vegetables and tender dumplings\, spices that warm rather than overwhelm\, and\, of course\, the most famous dish of all: khachapuri\, the warm\, indulgent cheese bread beloved around the world. \nOur Supra menu features:• Khachapuri (cheese-filled bread boats)• Khinkali (pork and beef dumplings)• Fresh tomato–cucumber salad• Eggplant–walnut rolls• Plov (fragrant rice with dried fruit)• Kharcho (beef in rich walnut and spice stew)• Tart cherry cake for dessert \nThis is more than a cooking class—it’s a feast\, a welcome\, and a window into one of the oldest continuous culinary traditions on Earth. Come ready to learn\, savor\, and celebrate. \n\n\n\n\n\n\n\n\n\n\n \n\n\n\n\n \n\n\n\n\n \n\n\n\n\n \n\n\n\n\n \n\n\n\n\n \n\n\n\n\n\n\n\n\n\n\n  \nBYOB \n  \nWe suggest a bright Georgian Rkatsiteli\, a dry or off-dry Riesling\, an earthy Pinot Noir\, a bold Saperavi red\, or a luscious late-harvest Muscat to pair beautifully with the tart cherry cake. (Pro tip: Total Wines has a nice selection of Georgian wines!) \n\n\n\n\n  \nRules & Policies \n  \nComplete Event & Ticket Policies can be found here. Please read them!  \n\n\n\n\n  \nHave More Questions? \n  \nCheck our FAQ\, and then send us a message if you still have questions!  
URL:https://www.pickwickandcherry.com/event/georgian-supra-date-night-cooking-experience-2/
LOCATION:Pickwick & Cherry Kitchen\, 607 S Pickwick\, Rear Door\, Springfield\, MO\, 65802\, United States
CATEGORIES:Date Night Cooking Dinner
ATTACH;FMTTYPE=image/jpeg:https://www.pickwickandcherry.com/wp-content/uploads/2025/10/Georgian-Supra-long.jpg
END:VEVENT
BEGIN:VEVENT
DTSTART;TZID=America/Chicago:20260502T183000
DTEND;TZID=America/Chicago:20260502T210000
DTSTAMP:20260424T140534
CREATED:20260225T194359Z
LAST-MODIFIED:20260226T045135Z
UID:10002989-1777746600-1777755600@www.pickwickandcherry.com
SUMMARY:Georgian Supra Date Night Cooking Experience
DESCRIPTION:About Our Georgian Cooking Class\nWhether Georgia is already one of your favorite cuisines or you’re discovering it for the first time\, we can’t wait to welcome you to Georgian Supra—our celebration of the rich\, ancient food culture of the Eastern European/West Asian nation of Georgia. (We love the Peach State too\, but this menu comes from the other one—the one with mountains\, monasteries\, and 8\,000 years of winemaking tradition.) \nA supra is a traditional Georgian feast: a generous\, abundant table filled with vibrant dishes\, heartfelt hospitality\, and food meant to be shared. This spirit of welcome has been central to Georgian life for millennia\, shaped by the country’s position at the crossroads of Europe and Asia. Archaeological discoveries reveal that Georgia is home to some of the world’s earliest winemaking sites\, where clay qvevri vessels were used to ferment grapes thousands of years before the first amphora appeared in Greece or Rome. That same deep history—of wine\, of trade\, of craftsmanship—shaped the bold\, unforgettable flavors that make this cuisine so compelling today. \nGeorgian food is true East-meets-West fusion in the best possible way. Expect a balance of bright pomegranate and earthy walnuts\, fresh herbs and cultured dairy\, smoky vegetables and tender dumplings\, spices that warm rather than overwhelm\, and\, of course\, the most famous dish of all: khachapuri\, the warm\, indulgent cheese bread beloved around the world. \nOur Supra menu features:• Khachapuri (cheese-filled bread boats)• Khinkali (pork and beef dumplings)• Fresh tomato–cucumber salad• Eggplant–walnut rolls• Plov (fragrant rice with dried fruit)• Kharcho (beef in rich walnut and spice stew)• Tart cherry cake for dessert \nThis is more than a cooking class—it’s a feast\, a welcome\, and a window into one of the oldest continuous culinary traditions on Earth. Come ready to learn\, savor\, and celebrate. \n\n\n\n\n\n\n\n\n\n\n \n\n\n\n\n \n\n\n\n\n \n\n\n\n\n \n\n\n\n\n \n\n\n\n\n \n\n\n\n\n\n\n\n\n\n\n  \nBYOB \n  \nWe suggest a bright Georgian Rkatsiteli\, a dry or off-dry Riesling\, an earthy Pinot Noir\, a bold Saperavi red\, or a luscious late-harvest Muscat to pair beautifully with the tart cherry cake. (Pro tip: Total Wines has a nice selection of Georgian wines!) \n\n\n\n\n  \nRules & Policies \n  \nComplete Event & Ticket Policies can be found here. Please read them!  \n\n\n\n\n  \nHave More Questions? \n  \nCheck our FAQ\, and then send us a message if you still have questions!  
URL:https://www.pickwickandcherry.com/event/georgian-supra-date-night-cooking-experience-3/
LOCATION:Pickwick & Cherry Kitchen\, 607 S Pickwick\, Rear Door\, Springfield\, MO\, 65802\, United States
CATEGORIES:Date Night Cooking Dinner
ATTACH;FMTTYPE=image/jpeg:https://www.pickwickandcherry.com/wp-content/uploads/2025/10/Georgian-Supra-long.jpg
END:VEVENT
BEGIN:VEVENT
DTSTART;TZID=America/Chicago:20260507T183000
DTEND;TZID=America/Chicago:20260507T210000
DTSTAMP:20260424T140534
CREATED:20260226T040255Z
LAST-MODIFIED:20260226T040255Z
UID:10002991-1778178600-1778187600@www.pickwickandcherry.com
SUMMARY:Greek Date Night Cooking Experience
DESCRIPTION:About This Greek Cooking Class\nTransport yourselves to the sun-drenched shores of the Aegean with a hands-on date night celebrating the bold\, fresh\, and timeless flavors of Greece. Picture the sparkle of the sea\, the warmth of a coastal breeze\, and the inviting spirit of a Greek taverna where food\, music\, and laughter flow freely. This class invites you to share that same warmth as you and your partner roll up your sleeves\, cook side by side\, and savor the joy of creating a meal together. \nYou’ll prepare a vibrant feast that captures the heart of Greek cuisine. Start with arni me aginares\, tender lamb and artichokes simmered in a silky egg-lemon avgolemono sauce\, balancing comfort with bright\, citrusy elegance. Then move on to garides saganaki\, shrimp baked with feta in a luscious\, spicy tomato glaze that’s as dramatic as it is delicious. For a satisfying crunch\, you’ll make spanakopitakia\, golden spinach-feta triangles wrapped in flaky pastry\, perfect for nibbling between sips of wine.The meal continues with fresh\, pillowy pita bread baked from scratch and a horiatiki salad\, a classic village-style medley of ripe tomatoes\, cucumbers\, briny olives\, and fragrant herbs. To finish\, you’ll craft loukoumades—irresistible honey-walnut puffs that are crisp on the outside\, soft on the inside\, and drenched in sweet\, sticky goodness.This isn’t just about cooking; it’s about sharing a memorable experience filled with fun\, flavor\, and Mediterranean hospitality. Whether you’re looking for a romantic evening or simply a joyful night out\, you’ll leave with full hearts\, satisfied appetites\, and a taste of Greece to carry home. Opa! \n\n\n\n\n\n\n\n\n\n  \nBYOB \n  \nWe suggest a crisp Assyrtiko\, a bright Greek Moschofilero\, a light-bodied Pinot Grigio\, a dry Rosé\, or a luscious Vin Santo-style dessert wine. \n\n\n\n\n  \nRules & Policies \n  \nComplete Event & Ticket Policies can be found here. Please read them!  \n\n\n\n\n  \nHave More Questions? \n  \nCheck our FAQ\, and then send us a message if you still have questions!  
URL:https://www.pickwickandcherry.com/event/greek-date-night-cooking-experience-19/
LOCATION:Pickwick & Cherry Kitchen\, 607 S Pickwick\, Rear Door\, Springfield\, MO\, 65802\, United States
CATEGORIES:Date Night Cooking Dinner
ATTACH;FMTTYPE=image/jpeg:https://www.pickwickandcherry.com/wp-content/uploads/2021/04/AdobeStock_164723352_Preview-1.jpg
END:VEVENT
BEGIN:VEVENT
DTSTART;TZID=America/Chicago:20260508T183000
DTEND;TZID=America/Chicago:20260508T210000
DTSTAMP:20260424T140534
CREATED:20260226T040559Z
LAST-MODIFIED:20260226T040559Z
UID:10002992-1778265000-1778274000@www.pickwickandcherry.com
SUMMARY:Greek Date Night Cooking Experience
DESCRIPTION:About This Greek Cooking Class\nTransport yourselves to the sun-drenched shores of the Aegean with a hands-on date night celebrating the bold\, fresh\, and timeless flavors of Greece. Picture the sparkle of the sea\, the warmth of a coastal breeze\, and the inviting spirit of a Greek taverna where food\, music\, and laughter flow freely. This class invites you to share that same warmth as you and your partner roll up your sleeves\, cook side by side\, and savor the joy of creating a meal together. \nYou’ll prepare a vibrant feast that captures the heart of Greek cuisine. Start with arni me aginares\, tender lamb and artichokes simmered in a silky egg-lemon avgolemono sauce\, balancing comfort with bright\, citrusy elegance. Then move on to garides saganaki\, shrimp baked with feta in a luscious\, spicy tomato glaze that’s as dramatic as it is delicious. For a satisfying crunch\, you’ll make spanakopitakia\, golden spinach-feta triangles wrapped in flaky pastry\, perfect for nibbling between sips of wine.The meal continues with fresh\, pillowy pita bread baked from scratch and a horiatiki salad\, a classic village-style medley of ripe tomatoes\, cucumbers\, briny olives\, and fragrant herbs. To finish\, you’ll craft loukoumades—irresistible honey-walnut puffs that are crisp on the outside\, soft on the inside\, and drenched in sweet\, sticky goodness.This isn’t just about cooking; it’s about sharing a memorable experience filled with fun\, flavor\, and Mediterranean hospitality. Whether you’re looking for a romantic evening or simply a joyful night out\, you’ll leave with full hearts\, satisfied appetites\, and a taste of Greece to carry home. Opa! \n\n\n\n\n\n\n\n\n\n  \nBYOB \n  \nWe suggest a crisp Assyrtiko\, a bright Greek Moschofilero\, a light-bodied Pinot Grigio\, a dry Rosé\, or a luscious Vin Santo-style dessert wine. \n\n\n\n\n  \nRules & Policies \n  \nComplete Event & Ticket Policies can be found here. Please read them!  \n\n\n\n\n  \nHave More Questions? \n  \nCheck our FAQ\, and then send us a message if you still have questions!  
URL:https://www.pickwickandcherry.com/event/greek-date-night-cooking-experience-20/
LOCATION:Pickwick & Cherry Kitchen\, 607 S Pickwick\, Rear Door\, Springfield\, MO\, 65802\, United States
CATEGORIES:Date Night Cooking Dinner
ATTACH;FMTTYPE=image/jpeg:https://www.pickwickandcherry.com/wp-content/uploads/2021/04/AdobeStock_164723352_Preview-1.jpg
END:VEVENT
BEGIN:VEVENT
DTSTART;TZID=America/Chicago:20260509T183000
DTEND;TZID=America/Chicago:20260509T210000
DTSTAMP:20260424T140534
CREATED:20260226T041019Z
LAST-MODIFIED:20260226T041019Z
UID:10002993-1778351400-1778360400@www.pickwickandcherry.com
SUMMARY:Greek Date Night Cooking Experience
DESCRIPTION:About This Greek Cooking Class\nTransport yourselves to the sun-drenched shores of the Aegean with a hands-on date night celebrating the bold\, fresh\, and timeless flavors of Greece. Picture the sparkle of the sea\, the warmth of a coastal breeze\, and the inviting spirit of a Greek taverna where food\, music\, and laughter flow freely. This class invites you to share that same warmth as you and your partner roll up your sleeves\, cook side by side\, and savor the joy of creating a meal together. \nYou’ll prepare a vibrant feast that captures the heart of Greek cuisine. Start with arni me aginares\, tender lamb and artichokes simmered in a silky egg-lemon avgolemono sauce\, balancing comfort with bright\, citrusy elegance. Then move on to garides saganaki\, shrimp baked with feta in a luscious\, spicy tomato glaze that’s as dramatic as it is delicious. For a satisfying crunch\, you’ll make spanakopitakia\, golden spinach-feta triangles wrapped in flaky pastry\, perfect for nibbling between sips of wine.The meal continues with fresh\, pillowy pita bread baked from scratch and a horiatiki salad\, a classic village-style medley of ripe tomatoes\, cucumbers\, briny olives\, and fragrant herbs. To finish\, you’ll craft loukoumades—irresistible honey-walnut puffs that are crisp on the outside\, soft on the inside\, and drenched in sweet\, sticky goodness.This isn’t just about cooking; it’s about sharing a memorable experience filled with fun\, flavor\, and Mediterranean hospitality. Whether you’re looking for a romantic evening or simply a joyful night out\, you’ll leave with full hearts\, satisfied appetites\, and a taste of Greece to carry home. Opa! \n\n\n\n\n\n\n\n\n\n  \nBYOB \n  \nWe suggest a crisp Assyrtiko\, a bright Greek Moschofilero\, a light-bodied Pinot Grigio\, a dry Rosé\, or a luscious Vin Santo-style dessert wine. \n\n\n\n\n  \nRules & Policies \n  \nComplete Event & Ticket Policies can be found here. Please read them!  \n\n\n\n\n  \nHave More Questions? \n  \nCheck our FAQ\, and then send us a message if you still have questions!  
URL:https://www.pickwickandcherry.com/event/greek-date-night-cooking-experience-21/
LOCATION:Pickwick & Cherry Kitchen\, 607 S Pickwick\, Rear Door\, Springfield\, MO\, 65802\, United States
CATEGORIES:Date Night Cooking Dinner
ATTACH;FMTTYPE=image/jpeg:https://www.pickwickandcherry.com/wp-content/uploads/2021/04/AdobeStock_164723352_Preview-1.jpg
END:VEVENT
BEGIN:VEVENT
DTSTART;TZID=America/Chicago:20260516T093000
DTEND;TZID=America/Chicago:20260516T123000
DTSTAMP:20260424T140534
CREATED:20260226T052508Z
LAST-MODIFIED:20260226T161647Z
UID:10002986-1778923800-1778934600@www.pickwickandcherry.com
SUMMARY:Sourdough & Naturally Leavened Breads Baking Class
DESCRIPTION:Sourdough & Naturally Leavened Breads Baking Class\nWe celebrate the art\, science\, and flavor of naturally leavened breads in our Sourdough & Naturally Leavened Breads Baking Class. Together\, we’ll explore the fascinating world of wild yeast\, long fermentation\, and rustic baking traditions that bring unmatched character and taste to every loaf. \nWe’ll begin with the foundation: an artisan sourdough\, learning the steps of mixing\, folding\, proofing\, and baking that create the chewy crust\, open crumb\, and deep tang that make sourdough beloved around the world. From there\, we’ll branch out into variations that highlight how versatile naturally leavened breads can be. We’ll bake an aromatic asiago and onion sourdough\, a savory loaf filled with bold\, cheesy flavor and caramelized sweetness. \nWe’ll also step outside sourdough-is-savory box and prepare South African mosbolletjies\, a fragrant\, lightly sweet bread flavored with anise and enriched with all of the dairy products we have. (Not really\, but it feels like it!) This bread was our all-time top seller when we used to sell at the Farmer’s Market — even among people who couldn’t pronounce it (so\, basically\, everyone.)  \nIn addition\, we’ll put every bit of our starter to good use by turning discarded sourdough into crispy\, delicious crackers. These golden\, savory bites reduce waste while adding another skill to our repertoire. \nAlong the way\, we’ll cover essential techniques\, from starter maintenance to shaping methods and decorative techniques\, so that sourdough feels approachable and exciting. Whether rustic or refined\, savory or slightly sweet\, every bread we bake together will deepen our appreciation for this timeless craft. \nBy the end\, we’ll leave with a collection of fresh loaves\, crackers\, and the confidence to keep baking sourdough at home for years to come. And yes\, we will give you starter to take home!  \n\n\n\n\n\n\n\n\n\n \n\n\n\n\n \n\n\n\n\n \n\n\n\n\n \n\n\n\n\n \n\n\n\n\n \n\n\n\n\n\n\n\n\n\n\n  \nADMIT ONE \n  \nEach ticket admits one person\, but don’t let that stop you.  This is a great experience to share with friends\, family\, neighbors\, coworkers\, frenemies\, and anybody you want to share the cooking and eating with! \n\n\n\n\n  \nRules & Policies \n  \nComplete Event & Ticket Policies can be found here. Please read them!  \n\n\n\n\n  \nHave More Questions? \n  \nCheck our FAQ\, and then send us a message if you still have questions!  
URL:https://www.pickwickandcherry.com/event/sourdough-naturally-leavened-breads-baking-class-8/
LOCATION:Pickwick & Cherry Kitchen\, 607 S Pickwick\, Rear Door\, Springfield\, MO\, 65802\, United States
CATEGORIES:Baking Class
ATTACH;FMTTYPE=image/jpeg:https://www.pickwickandcherry.com/wp-content/uploads/2024/05/Naturally-Leavened-Breads-2.jpg
END:VEVENT
BEGIN:VEVENT
DTSTART;TZID=America/Chicago:20260516T130000
DTEND;TZID=America/Chicago:20260516T154500
DTSTAMP:20260424T140534
CREATED:20260226T160611Z
LAST-MODIFIED:20260226T160611Z
UID:10003000-1778936400-1778946300@www.pickwickandcherry.com
SUMMARY:Sourdough & Naturally Leavened Breads Baking Class
DESCRIPTION:Sourdough & Naturally Leavened Breads Baking Class\nWe celebrate the art\, science\, and flavor of naturally leavened breads in our Sourdough & Naturally Leavened Breads Baking Class. Together\, we’ll explore the fascinating world of wild yeast\, long fermentation\, and rustic baking traditions that bring unmatched character and taste to every loaf. \nWe’ll begin with the foundation: an artisan sourdough\, learning the steps of mixing\, folding\, proofing\, and baking that create the chewy crust\, open crumb\, and deep tang that make sourdough beloved around the world. From there\, we’ll branch out into variations that highlight how versatile naturally leavened breads can be. We’ll bake an aromatic asiago and onion sourdough\, a savory loaf filled with bold\, cheesy flavor and caramelized sweetness. \nWe’ll also step outside sourdough-is-savory box and prepare South African mosbolletjies\, a fragrant\, lightly sweet bread flavored with anise and enriched with all of the dairy products we have. (Not really\, but it feels like it!) This bread was our all-time top seller when we used to sell at the Farmer’s Market — even among people who couldn’t pronounce it (so\, basically\, everyone.)  \nAlong the way\, we’ll cover essential techniques\, from starter maintenance to shaping methods and decorative techniques\, so that sourdough feels approachable and exciting. Whether rustic or refined\, savory or slightly sweet\, every bread we bake together will deepen our appreciation for this timeless craft. \nBy the end\, we’ll leave with a collection of fresh loaves and the confidence to keep baking sourdough at home for years to come. And of course\, we will give you starter to take home!  \n\n\n\n\n\n\n\n\n\n \n\n\n\n\n \n\n\n\n\n \n\n\n\n\n \n\n\n\n\n \n\n\n\n\n \n\n\n\n\n\n\n\n\n\n\n  \nADMIT ONE \n  \nEach ticket admits one person\, but don’t let that stop you.  This is a great experience to share with friends\, family\, neighbors\, coworkers\, frenemies\, and anybody you want to share the cooking and eating with! \n\n\n\n\n  \nRules & Policies \n  \nComplete Event & Ticket Policies can be found here. Please read them!  \n\n\n\n\n  \nHave More Questions? \n  \nCheck our FAQ\, and then send us a message if you still have questions!  
URL:https://www.pickwickandcherry.com/event/sourdough-naturally-leavened-breads-baking-class-9/
LOCATION:Pickwick & Cherry Kitchen\, 607 S Pickwick\, Rear Door\, Springfield\, MO\, 65802\, United States
CATEGORIES:Baking Class
ATTACH;FMTTYPE=image/jpeg:https://www.pickwickandcherry.com/wp-content/uploads/2024/05/Naturally-Leavened-Breads-2.jpg
END:VEVENT
BEGIN:VEVENT
DTSTART;TZID=America/Chicago:20260517T130000
DTEND;TZID=America/Chicago:20260517T154500
DTSTAMP:20260424T140534
CREATED:20260226T160946Z
LAST-MODIFIED:20260226T160946Z
UID:10003001-1779022800-1779032700@www.pickwickandcherry.com
SUMMARY:Sourdough & Naturally Leavened Breads Baking Class
DESCRIPTION:Sourdough & Naturally Leavened Breads Baking Class\nWe celebrate the art\, science\, and flavor of naturally leavened breads in our Sourdough & Naturally Leavened Breads Baking Class. Together\, we’ll explore the fascinating world of wild yeast\, long fermentation\, and rustic baking traditions that bring unmatched character and taste to every loaf. \nWe’ll begin with the foundation: an artisan sourdough\, learning the steps of mixing\, folding\, proofing\, and baking that create the chewy crust\, open crumb\, and deep tang that make sourdough beloved around the world. From there\, we’ll branch out into variations that highlight how versatile naturally leavened breads can be. We’ll bake an aromatic asiago and onion sourdough\, a savory loaf filled with bold\, cheesy flavor and caramelized sweetness. \nWe’ll also step outside sourdough-is-savory box and prepare South African mosbolletjies\, a fragrant\, lightly sweet bread flavored with anise and enriched with all of the dairy products we have. (Not really\, but it feels like it!) This bread was our all-time top seller when we used to sell at the Farmer’s Market — even among people who couldn’t pronounce it (so\, basically\, everyone.)  \nAlong the way\, we’ll cover essential techniques\, from starter maintenance to shaping methods and decorative techniques\, so that sourdough feels approachable and exciting. Whether rustic or refined\, savory or slightly sweet\, every bread we bake together will deepen our appreciation for this timeless craft. \nBy the end\, we’ll leave with a collection of fresh loaves and the confidence to keep baking sourdough at home for years to come. And of course\, we will give you starter to take home!  \n\n\n\n\n\n\n\n\n\n \n\n\n\n\n \n\n\n\n\n \n\n\n\n\n \n\n\n\n\n \n\n\n\n\n \n\n\n\n\n\n\n\n\n\n\n  \nADMIT ONE \n  \nEach ticket admits one person\, but don’t let that stop you.  This is a great experience to share with friends\, family\, neighbors\, coworkers\, frenemies\, and anybody you want to share the cooking and eating with! \n\n\n\n\n  \nRules & Policies \n  \nComplete Event & Ticket Policies can be found here. Please read them!  \n\n\n\n\n  \nHave More Questions? \n  \nCheck our FAQ\, and then send us a message if you still have questions!  
URL:https://www.pickwickandcherry.com/event/sourdough-naturally-leavened-breads-baking-class-10/
LOCATION:Pickwick & Cherry Kitchen\, 607 S Pickwick\, Rear Door\, Springfield\, MO\, 65802\, United States
CATEGORIES:Baking Class
ATTACH;FMTTYPE=image/jpeg:https://www.pickwickandcherry.com/wp-content/uploads/2024/05/Naturally-Leavened-Breads-2.jpg
END:VEVENT
BEGIN:VEVENT
DTSTART;TZID=UTC:20260518T110000
DTEND;TZID=UTC:20260518T130000
DTSTAMP:20260424T140534
CREATED:20260303T220147Z
LAST-MODIFIED:20260303T220147Z
UID:10003068-1779102000-1779109200@www.pickwickandcherry.com
SUMMARY:French Lunch Cooking Experience
DESCRIPTION:Spend a cheerful late morning cooking and dining like you’re in a Paris café! In this hands-on class\, we’ll prepare a delicious French bistro–inspired lunch that’s simple\, satisfying\, and full of joie de vivre — perfect for an indulgent mid-day escape. \nWe’ll begin with Heirloom Tomato Soup\, velvety and vibrant. Then we’ll craft the iconic Croque Monsieur — layers of buttery bread\, smoky ham\, and bubbling Gruyère baked to golden perfection. To balance the richness\, we’ll toss a crisp\, classic Bistro Salad with a bright vinaigrette that’s as effortless as it is delicious. Finally\, we’ll cap our meal with Crème Brûlée\, complete with that signature crack of caramelized sugar on top. \nThroughout the class\, we’ll focus on the little details that make French cooking shine — balancing flavors\, mastering textures\, and turning simple ingredients into something special. You’ll leave not just full\, but inspired to bring a bit of café-style comfort and charm into your own kitchen. \nIt’s the perfect way to spend a late morning: cooking\, learning\, laughing\, and enjoying a beautiful lunch you made yourself. Bon appétit! \n\n\n\n\n\n\n\n\n\n  \nBYOB \n  \nWe suggest a crisp Loire Valley Sauvignon Blanc\, a lightly oaked Chardonnay\, a dry Provençal Rosé\, a smooth Pinot Noir\, or a luscious Sauternes. \n\n\n\n\n  \nADMIT ONE \n  \nEach ticket admits one person\, but don’t let that stop you.  This is a great experience to share with friends\, family\, neighbors\, coworkers\, frenemies\, and anybody you want to share the cooking and eating with! \n\n\n\n\n  \nRules & Policies \n  \nComplete Event & Ticket Policies can be found here. Please read them!  \n\n\n\n\n  \nHave More Questions? \n  \nCheck our FAQ\, and then send us a message if you still have questions!  
URL:https://www.pickwickandcherry.com/event/french-lunch-cooking-experience-7/
LOCATION:Pickwick & Cherry Kitchen\, 607 S Pickwick\, Rear Door\, Springfield\, MO\, 65802\, United States
CATEGORIES:Cooking Lunch
ATTACH;FMTTYPE=image/jpeg:https://www.pickwickandcherry.com/wp-content/uploads/2025/03/French-lunch-long.jpg
END:VEVENT
END:VCALENDAR