BEGIN:VCALENDAR
VERSION:2.0
PRODID:-//Pickwick &amp; Cherry - ECPv6.14.1//NONSGML v1.0//EN
CALSCALE:GREGORIAN
METHOD:PUBLISH
X-WR-CALNAME:Pickwick &amp; Cherry
X-ORIGINAL-URL:https://www.pickwickandcherry.com
X-WR-CALDESC:Events for Pickwick &amp; Cherry
REFRESH-INTERVAL;VALUE=DURATION:PT1H
X-Robots-Tag:noindex
X-PUBLISHED-TTL:PT1H
BEGIN:VTIMEZONE
TZID:America/Chicago
BEGIN:DAYLIGHT
TZOFFSETFROM:-0600
TZOFFSETTO:-0500
TZNAME:CDT
DTSTART:20250309T080000
END:DAYLIGHT
BEGIN:STANDARD
TZOFFSETFROM:-0500
TZOFFSETTO:-0600
TZNAME:CST
DTSTART:20251102T070000
END:STANDARD
END:VTIMEZONE
BEGIN:VTIMEZONE
TZID:America/Chicago
BEGIN:DAYLIGHT
TZOFFSETFROM:-0600
TZOFFSETTO:-0500
TZNAME:CDT
DTSTART:20250309T080000
END:DAYLIGHT
BEGIN:STANDARD
TZOFFSETFROM:-0500
TZOFFSETTO:-0600
TZNAME:CST
DTSTART:20251102T070000
END:STANDARD
END:VTIMEZONE
BEGIN:VEVENT
DTSTART;TZID=America/Chicago:20251204T183000
DTEND;TZID=America/Chicago:20251204T213000
DTSTAMP:20260425T142536
CREATED:20251003T193431Z
LAST-MODIFIED:20251007T173529Z
UID:10002853-1764873000-1764883800@www.pickwickandcherry.com
SUMMARY:Christmas Cookies of the World Baking Class
DESCRIPTION:Whether you’re out to dazzle at the next cookie swap or simply curious about holiday traditions beyond your own\, this class is your passport to the world’s cookie jar.  \nTogether we’ll bake (and eat) our way across every continents (including Antarctica!) We’re getting hands-on and exploring how sugar\, spice\, eggs\, butter and the very concept of a cookie take on new personalities and meanings from country to country. \nFrom the spicy gingerbread of Germany to the walnut-apricot delights of Serbia to the aromatic semolina-and-date cookies of the Middle East\, from South Africa’s fried\, syrupy koeksisters to the coffee-and-caramel treats of Colombia to some favorites from Down Under\, we’ll fill our trays with flavors that tell stories. There’s even a stop or two in the good old USA for some regional faves! \nIt may be a small world\, but it’s absolutely packed with cookies\, and we’re determined to taste our way through as many as we can. Come ready to roll\, shape\, bake\, and sample\, because Christmas cheer is best baked\, iced\, and shared. And don’t worry\, we are sending you home with a LOT of cookies!  \n\n\n\n\n\n\n  \nBYOB \n  \nIf you’d like to get into the holiday spirit with something sparkling or spirited\, bring it if you like. We have glasses! \n\n\n\n\n  \nADMIT One \n  \nEach ticket admits one person\, but don’t let that stop you.  This is a great experience to share with friends\, family\, neighbors\, coworkers\, frenemies\, and anybody you want to share the cooking and eating with! Ages 10+ please!  \n\n\n\n\n  \nRules & Policies \n  \nComplete Event & Ticket Policies can be found here. Please read them!  \n\n\n\n\n  \nHave More Questions? \n  \nCheck our FAQ\, and then send us a message if you still have questions!  
URL:https://www.pickwickandcherry.com/event/christmas-cookies-of-the-world-baking-class-5/
LOCATION:Pickwick & Cherry Kitchen\, 607 S Pickwick\, Rear Door\, Springfield\, MO\, 65802\, United States
CATEGORIES:Baking Class
ATTACH;FMTTYPE=image/jpeg:https://www.pickwickandcherry.com/wp-content/uploads/2025/10/Christmas-Cookies-of-the-World-New-Long-3.jpg
END:VEVENT
BEGIN:VEVENT
DTSTART;TZID=America/Chicago:20251206T183000
DTEND;TZID=America/Chicago:20251206T204500
DTSTAMP:20260425T142536
CREATED:20251003T025424Z
LAST-MODIFIED:20251003T025424Z
UID:10002848-1765045800-1765053900@www.pickwickandcherry.com
SUMMARY:Gingerbread Everything Baking Class
DESCRIPTION:If you can dream it in gingerbread\, we are making it. In this festive hands-on class\, we will build indulgent parfaits with our famous gingerbread cake\, bake and decorate several styles of European gingerbread cookies\, and learn the secrets to assembling gingerbread houses that actually stay standing the first time. Along the way you will pick up piping tricks and decorating skills that make your creations look as good as they taste. \nThere might even be a little gingerbread-spiced sip to keep the holiday spirit flowing while you work. \nCome with friends\, bring your creativity\, and get ready for an evening filled with sugar\, spice\, and everything nice.  \n✨This class is brand-new this year\, but our December classes always fill up very quickly\, so if you see tickets grab them!  \n\n\n\n\n\n\n  \nBYOB \n  \nIf you’d like to get into the holiday spirit with something sparkling or spirited\, bring it if you like. We have glasses!   \n\n\n\n\n  \nADMIT ONE \n  \nEach ticket admits one person\, but don’t let that stop you.  This is a great experience to share with friends\, family\, neighbors\, coworkers\, frenemies\, and anybody you want to share the cooking and eating with! Ages 8+ please.  \n\n\n\n\n  \nRules & Policies \n  \nComplete Event & Ticket Policies can be found here. Please read them!  \n\n\n\n\n  \nHave More Questions? \n  \nCheck our FAQ\, and then send us a message if you still have questions!  
URL:https://www.pickwickandcherry.com/event/gingerbread-everything-baking-class-2/
LOCATION:Pickwick & Cherry Kitchen\, 607 S Pickwick\, Rear Door\, Springfield\, MO\, 65802\, United States
CATEGORIES:Baking Class,Christmas
ATTACH;FMTTYPE=image/jpeg:https://www.pickwickandcherry.com/wp-content/uploads/2025/10/Gingerbread-Everything-Long.jpg
END:VEVENT
BEGIN:VEVENT
DTSTART;TZID=America/Chicago:20251207T130000
DTEND;TZID=America/Chicago:20251207T160000
DTSTAMP:20260425T142536
CREATED:20251004T050713Z
LAST-MODIFIED:20251007T173627Z
UID:10002859-1765112400-1765123200@www.pickwickandcherry.com
SUMMARY:Christmas Cookies of the World Baking Class
DESCRIPTION:Whether you’re out to dazzle at the next cookie swap or simply curious about holiday traditions beyond your own\, this class is your passport to the world’s cookie jar.  \nTogether we’ll bake (and eat) our way across every continents (including Antarctica!) We’re getting hands-on and exploring how sugar\, spice\, eggs\, butter and the very concept of a cookie take on new personalities and meanings from country to country. \nFrom the spicy gingerbread of Germany to the walnut-apricot delights of Serbia to the aromatic semolina-and-date cookies of the Middle East\, from South Africa’s fried\, syrupy koeksisters to the coffee-and-caramel treats of Colombia to some favorites from Down Under\, we’ll fill our trays with flavors that tell stories. There’s even a stop or two in the good old USA for some regional faves! \nIt may be a small world\, but it’s absolutely packed with cookies\, and we’re determined to taste our way through as many as we can. Come ready to roll\, shape\, bake\, and sample\, because Christmas cheer is best baked\, iced\, and shared. And don’t worry\, we are sending you home with a LOT of cookies!  \n\n\n\n\n\n\n  \nBYOB \n  \nIf you’d like to get into the holiday spirit with something sparkling or spirited\, bring it if you like. We have glasses! \n\n\n\n\n  \nADMIT One \n  \nEach ticket admits one person\, but don’t let that stop you.  This is a great experience to share with friends\, family\, neighbors\, coworkers\, frenemies\, and anybody you want to share the cooking and eating with! Ages 10+ please!  \n\n\n\n\n  \nRules & Policies \n  \nComplete Event & Ticket Policies can be found here. Please read them!  \n\n\n\n\n  \nHave More Questions? \n  \nCheck our FAQ\, and then send us a message if you still have questions!  
URL:https://www.pickwickandcherry.com/event/christmas-cookies-of-the-world-baking-class-9/
LOCATION:Pickwick & Cherry Kitchen\, 607 S Pickwick\, Rear Door\, Springfield\, MO\, 65802\, United States
CATEGORIES:Baking Class
END:VEVENT
BEGIN:VEVENT
DTSTART;TZID=America/Chicago:20251208T183000
DTEND;TZID=America/Chicago:20251208T213000
DTSTAMP:20260425T142536
CREATED:20251004T045238Z
LAST-MODIFIED:20251007T173408Z
UID:10002855-1765218600-1765229400@www.pickwickandcherry.com
SUMMARY:Christmas Cookies of the World Baking Class
DESCRIPTION:Whether you’re out to dazzle at the next cookie swap or simply curious about holiday traditions beyond your own\, this class is your passport to the world’s cookie jar.  \nTogether we’ll bake (and eat) our way across every continents (including Antarctica!) We’re getting hands-on and exploring how sugar\, spice\, eggs\, butter and the very concept of a cookie take on new personalities and meanings from country to country. \nFrom the spicy gingerbread of Germany to the walnut-apricot delights of Serbia to the aromatic semolina-and-date cookies of the Middle East\, from South Africa’s fried\, syrupy koeksisters to the coffee-and-caramel treats of Colombia to some favorites from Down Under\, we’ll fill our trays with flavors that tell stories. There’s even a stop or two in the good old USA for some regional faves! \nIt may be a small world\, but it’s absolutely packed with cookies\, and we’re determined to taste our way through as many as we can. Come ready to roll\, shape\, bake\, and sample\, because Christmas cheer is best baked\, iced\, and shared. And don’t worry\, we are sending you home with a LOT of cookies!  \n\n\n\n\n\n\n  \nBYOB \n  \nIf you’d like to get into the holiday spirit with something sparkling or spirited\, bring it if you like. We have glasses! \n\n\n\n\n  \nADMIT One \n  \nEach ticket admits one person\, but don’t let that stop you.  This is a great experience to share with friends\, family\, neighbors\, coworkers\, frenemies\, and anybody you want to share the cooking and eating with! Ages 10+ please!  \n\n\n\n\n  \nRules & Policies \n  \nComplete Event & Ticket Policies can be found here. Please read them!  \n\n\n\n\n  \nHave More Questions? \n  \nCheck our FAQ\, and then send us a message if you still have questions!  
URL:https://www.pickwickandcherry.com/event/christmas-cookies-of-the-world-baking-class-6/
LOCATION:Pickwick & Cherry Kitchen\, 607 S Pickwick\, Rear Door\, Springfield\, MO\, 65802\, United States
CATEGORIES:Baking Class
ATTACH;FMTTYPE=image/jpeg:https://www.pickwickandcherry.com/wp-content/uploads/2025/10/Christmas-Cookies-of-the-World-New-Long.jpg
END:VEVENT
BEGIN:VEVENT
DTSTART;TZID=America/Chicago:20251210T183000
DTEND;TZID=America/Chicago:20251210T204500
DTSTAMP:20260425T142536
CREATED:20251003T025701Z
LAST-MODIFIED:20251006T160739Z
UID:10002849-1765391400-1765399500@www.pickwickandcherry.com
SUMMARY:Gingerbread Everything Baking Class
DESCRIPTION:If you can dream it in gingerbread\, we are making it. In this festive hands-on class\, we will build indulgent parfaits with our famous gingerbread cake\, bake and decorate several styles of European gingerbread cookies\, and learn the secrets to assembling gingerbread houses that actually stay standing the first time. Along the way you will pick up piping tricks and decorating skills that make your creations look as good as they taste. \nThere might even be a little gingerbread-spiced sip to keep the holiday spirit flowing while you work. \nCome with friends\, bring your creativity\, and get ready for an evening filled with sugar\, spice\, and everything nice.  \n✨This class is brand-new this year\, but our December classes always fill up very quickly\, so if you see tickets grab them!  \n\n\n\n\n\n\n  \nBYOB \n  \nIf you’d like to get into the holiday spirit with something sparkling or spirited\, bring it if you like. We have glasses!   \n\n\n\n\n  \nADMIT ONE \n  \nEach ticket admits one person\, but don’t let that stop you.  This is a great experience to share with friends\, family\, neighbors\, coworkers\, frenemies\, and anybody you want to share the cooking and eating with! Ages 8+ please.  \n\n\n\n\n  \nRules & Policies \n  \nComplete Event & Ticket Policies can be found here. Please read them!  \n\n\n\n\n  \nHave More Questions? \n  \nCheck our FAQ\, and then send us a message if you still have questions!  
URL:https://www.pickwickandcherry.com/event/gingerbread-everything-baking-class-3/
LOCATION:Pickwick & Cherry Kitchen\, 607 S Pickwick\, Rear Door\, Springfield\, MO\, 65802\, United States
CATEGORIES:Baking Class,Christmas
ATTACH;FMTTYPE=image/jpeg:https://www.pickwickandcherry.com/wp-content/uploads/2025/10/Gingerbread-Everything-Long.jpg
END:VEVENT
BEGIN:VEVENT
DTSTART;TZID=America/Chicago:20251211T183000
DTEND;TZID=America/Chicago:20251211T213000
DTSTAMP:20260425T142536
CREATED:20251004T045628Z
LAST-MODIFIED:20251007T173353Z
UID:10002857-1765477800-1765488600@www.pickwickandcherry.com
SUMMARY:Christmas Cookies of the World Baking Class
DESCRIPTION:Whether you’re out to dazzle at the next cookie swap or simply curious about holiday traditions beyond your own\, this class is your passport to the world’s cookie jar.  \nTogether we’ll bake (and eat) our way across every continents (including Antarctica!) We’re getting hands-on and exploring how sugar\, spice\, eggs\, butter and the very concept of a cookie take on new personalities and meanings from country to country. \nFrom the spicy gingerbread of Germany to the walnut-apricot delights of Serbia to the aromatic semolina-and-date cookies of the Middle East\, from South Africa’s fried\, syrupy koeksisters to the coffee-and-caramel treats of Colombia to some favorites from Down Under\, we’ll fill our trays with flavors that tell stories. There’s even a stop or two in the good old USA for some regional faves! \nIt may be a small world\, but it’s absolutely packed with cookies\, and we’re determined to taste our way through as many as we can. Come ready to roll\, shape\, bake\, and sample\, because Christmas cheer is best baked\, iced\, and shared. And don’t worry\, we are sending you home with a LOT of cookies!  \n\n\n\n\n\n\n  \nBYOB \n  \nIf you’d like to get into the holiday spirit with something sparkling or spirited\, bring it if you like. We have glasses! \n\n\n\n\n  \nADMIT One \n  \nEach ticket admits one person\, but don’t let that stop you.  This is a great experience to share with friends\, family\, neighbors\, coworkers\, frenemies\, and anybody you want to share the cooking and eating with! Ages 10+ please!  \n\n\n\n\n  \nRules & Policies \n  \nComplete Event & Ticket Policies can be found here. Please read them!  \n\n\n\n\n  \nHave More Questions? \n  \nCheck our FAQ\, and then send us a message if you still have questions!  
URL:https://www.pickwickandcherry.com/event/christmas-cookies-of-the-world-baking-class-7/
LOCATION:Pickwick & Cherry Kitchen\, 607 S Pickwick\, Rear Door\, Springfield\, MO\, 65802\, United States
CATEGORIES:Baking Class
ATTACH;FMTTYPE=image/jpeg:https://www.pickwickandcherry.com/wp-content/uploads/2025/10/Christmas-Cookies-of-the-World-New-Long-3.jpg
END:VEVENT
BEGIN:VEVENT
DTSTART;TZID=America/Chicago:20251216T183000
DTEND;TZID=America/Chicago:20251216T210000
DTSTAMP:20260425T142536
CREATED:20251004T054028Z
LAST-MODIFIED:20251111T005905Z
UID:10002863-1765909800-1765918800@www.pickwickandcherry.com
SUMMARY:Festive Fromage Holiday Cheesemaking Class
DESCRIPTION:Say cheese to the holidays with Festive Fromage\, a merry and delicious hands-on workshop devoted entirely to the art (and joy) of cheesemaking. This is your invitation to trade the cookie cutters for curds and spend a few cozy hours stirring\, stretching\, and sampling your way through the most delightful dairy of the season. \nWe’ll start with the foundations of fresh cheese\, learning how simple ingredients can transform into something truly spectacular. Together we’ll craft pillowy burrata with its luscious creamy center\, then decorate fromage blanc or chèvre in festive style with herbs and spices. It’s beautiful on a board and irresistible on warm bread. Next\, we’ll turn up the heat with the ultimate party centerpiece: a bubbling\, melty holiday fondue just begging for good bread and good company. \nBut the magic doesn’t stop there. You’ll also create elegant no-bake cheesecakes in festive seasonal flavors\, bake off crisp\, lacy parmesan wafers that make every table sparkle\, and assemble a stunning charcuterie and cheese board that would make any host proud. \nWhether you’re preparing to entertain\, to give edible gifts\, or simply to indulge\, Festive Fromage offers everything you need to make this holiday delicious. Bring a friend—or a bottle of wine if you’d like—and join us for a class that celebrates comfort\, creativity\, and culinary cheer in every creamy bite. \n\n\n\n\n\n\n  \nBYOB \n  \nIf you’d like to get into the holiday spirit with something sparkling or spirited\, bring it if you like. We have glasses! \n\n\n\n\n  \nADMIT One \n  \nEach ticket admits one person\, but don’t let that stop you.  This is a great experience to share with friends\, family\, neighbors\, coworkers\, frenemies\, and anybody you want to share the cooking and eating with! Ages 10+ please!  \n\n\n\n\n  \nRules & Policies \n  \nComplete Event & Ticket Policies can be found here. Please read them!  \n\n\n\n\n  \nHave More Questions? \n  \nCheck our FAQ\, and then send us a message if you still have questions!  
URL:https://www.pickwickandcherry.com/event/festive-fromage-holiday-cheesemaking-class-3/
LOCATION:Pickwick & Cherry Kitchen\, 607 S Pickwick\, Rear Door\, Springfield\, MO\, 65802\, United States
CATEGORIES:Baking Class
ATTACH;FMTTYPE=image/jpeg:https://www.pickwickandcherry.com/wp-content/uploads/2025/10/Festive-Fromage-1.jpg
END:VEVENT
BEGIN:VEVENT
DTSTART;TZID=America/Chicago:20251224T090000
DTEND;TZID=America/Chicago:20251224T120000
DTSTAMP:20260425T142536
CREATED:20251210T181148Z
LAST-MODIFIED:20251210T181823Z
UID:10002972-1766566800-1766577600@www.pickwickandcherry.com
SUMMARY:Christmas Eve Shop
DESCRIPTION:Join us for some last minute bakery shopping and pick up treats for your celebration\, or delicious gifts!\nIf you want to do a little extra shopping for treats\, stocking stuffers\, or last minute gifts\, we’ll have lots of great treats like our fabulous loose leaf teas\, marshmallow pops\, hand-iced cookies granolas and more! We will also have a number of extra pies\, cakes\, hors d’ouvres\, breads\, coffee cakes and more. This is your last chance to stock up on deliciousness for the holidays! If you want to guarantee your deliciousness ahead of time\, place an order on our handy pre-order form so that we can all plan ahead. Or just come see what we’ve got!
URL:https://www.pickwickandcherry.com/event/holiday-open-house-shopping-event-2/
LOCATION:Pickwick & Cherry Kitchen\, 607 S Pickwick\, Rear Door\, Springfield\, MO\, 65802\, United States
CATEGORIES:Extraordinary Events
ATTACH;FMTTYPE=image/jpeg:https://www.pickwickandcherry.com/wp-content/uploads/2025/12/christmas-Eve-Shop.jpg
END:VEVENT
END:VCALENDAR