BEGIN:VCALENDAR
VERSION:2.0
PRODID:-//Pickwick &amp; Cherry - ECPv6.14.1//NONSGML v1.0//EN
CALSCALE:GREGORIAN
METHOD:PUBLISH
X-WR-CALNAME:Pickwick &amp; Cherry
X-ORIGINAL-URL:https://www.pickwickandcherry.com
X-WR-CALDESC:Events for Pickwick &amp; Cherry
REFRESH-INTERVAL;VALUE=DURATION:PT1H
X-Robots-Tag:noindex
X-PUBLISHED-TTL:PT1H
BEGIN:VTIMEZONE
TZID:UTC
BEGIN:STANDARD
TZOFFSETFROM:+0000
TZOFFSETTO:+0000
TZNAME:UTC
DTSTART:20230101T000000
END:STANDARD
END:VTIMEZONE
BEGIN:VEVENT
DTSTART;TZID=UTC:20230107T130000
DTEND;TZID=UTC:20230107T153000
DTSTAMP:20260421T132306
CREATED:20221126T044749Z
LAST-MODIFIED:20221126T044749Z
UID:10001793-1673096400-1673105400@www.pickwickandcherry.com
SUMMARY:Croissants\, Puff Pastry\, and Beyond Baking Class
DESCRIPTION:Learn about making amazing pastries using butter-laminated doughs. We’ll make sweet and savory pastries by making and using croissant dough\, puff pastry\, and brioche feuilletée. You’ll go home with an armload of tasty pastries and a whole new appreciation for what goes into the flaky treats you love. \n 
URL:https://www.pickwickandcherry.com/event/croissants-puff-pastry-and-beyond-baking-class/
LOCATION:Pickwick & Cherry Kitchen\, 607 S Pickwick\, Rear Door\, Springfield\, MO\, 65802\, United States
CATEGORIES:Baking Class
ATTACH;FMTTYPE=image/jpeg:https://www.pickwickandcherry.com/wp-content/uploads/2021/11/New-Project-28.jpg
END:VEVENT
BEGIN:VEVENT
DTSTART;TZID=UTC:20230108T130000
DTEND;TZID=UTC:20230108T153000
DTSTAMP:20260421T132306
CREATED:20221126T044952Z
LAST-MODIFIED:20221126T044952Z
UID:10001794-1673182800-1673191800@www.pickwickandcherry.com
SUMMARY:Croissants\, Puff Pastry\, and Beyond Baking Class
DESCRIPTION:Learn about making amazing pastries using butter-laminated doughs. We’ll make sweet and savory pastries by making and using croissant dough\, puff pastry\, and brioche feuilletée. You’ll go home with an armload of tasty pastries and a whole new appreciation for what goes into the flaky treats you love. \n 
URL:https://www.pickwickandcherry.com/event/croissants-puff-pastry-and-beyond-baking-class-2/
LOCATION:Pickwick & Cherry Kitchen\, 607 S Pickwick\, Rear Door\, Springfield\, MO\, 65802\, United States
CATEGORIES:Baking Class
ATTACH;FMTTYPE=image/jpeg:https://www.pickwickandcherry.com/wp-content/uploads/2021/11/New-Project-28.jpg
END:VEVENT
BEGIN:VEVENT
DTSTART;TZID=UTC:20230128T130000
DTEND;TZID=UTC:20230128T160000
DTSTAMP:20260421T132306
CREATED:20221126T050118Z
LAST-MODIFIED:20221126T050259Z
UID:10001795-1674910800-1674921600@www.pickwickandcherry.com
SUMMARY:Whole Grain Breadbaking Class
DESCRIPTION:Make healthy choices and eat more whole grain and seedy breads! We’ll be making some of our customer favorites\, like Scandinavian Seed Bread\, Maple Granola Bread\, and 100% Whole Wheat Raisin buns. You’ll go home with fresh-baked\, whole grain bread\, as well as recipes and tons of new ideas for your baking. \n 
URL:https://www.pickwickandcherry.com/event/whole-grain-breadbaking-class-2/
LOCATION:Pickwick & Cherry Kitchen\, 607 S Pickwick\, Rear Door\, Springfield\, MO\, 65802\, United States
CATEGORIES:Baking Class
ATTACH;FMTTYPE=image/jpeg:https://www.pickwickandcherry.com/wp-content/uploads/2021/11/whole-grain-bread-graphic-long.jpg
END:VEVENT
BEGIN:VEVENT
DTSTART;TZID=UTC:20230129T130000
DTEND;TZID=UTC:20230129T153000
DTSTAMP:20260421T132306
CREATED:20221211T161310Z
LAST-MODIFIED:20221211T161310Z
UID:10001801-1674997200-1675006200@www.pickwickandcherry.com
SUMMARY:Croissants\, Puff Pastry\, and Beyond Baking Class
DESCRIPTION:Learn about making amazing pastries using butter-laminated doughs. We’ll make sweet and savory pastries by making and using croissant dough\, puff pastry\, and brioche feuilletée. You’ll go home with an armload of tasty pastries and a whole new appreciation for what goes into the flaky treats you love. \n 
URL:https://www.pickwickandcherry.com/event/croissants-puff-pastry-and-beyond-baking-class-3/
LOCATION:Pickwick & Cherry Kitchen\, 607 S Pickwick\, Rear Door\, Springfield\, MO\, 65802\, United States
CATEGORIES:Baking Class
ATTACH;FMTTYPE=image/jpeg:https://www.pickwickandcherry.com/wp-content/uploads/2021/11/New-Project-28.jpg
END:VEVENT
END:VCALENDAR