BEGIN:VCALENDAR
VERSION:2.0
PRODID:-//Pickwick &amp; Cherry - ECPv6.14.1//NONSGML v1.0//EN
CALSCALE:GREGORIAN
METHOD:PUBLISH
X-WR-CALNAME:Pickwick &amp; Cherry
X-ORIGINAL-URL:https://www.pickwickandcherry.com
X-WR-CALDESC:Events for Pickwick &amp; Cherry
REFRESH-INTERVAL;VALUE=DURATION:PT1H
X-Robots-Tag:noindex
X-PUBLISHED-TTL:PT1H
BEGIN:VTIMEZONE
TZID:UTC
BEGIN:STANDARD
TZOFFSETFROM:+0000
TZOFFSETTO:+0000
TZNAME:UTC
DTSTART:20210101T000000
END:STANDARD
END:VTIMEZONE
BEGIN:VEVENT
DTSTART;TZID=UTC:20210611T183000
DTEND;TZID=UTC:20210611T203000
DTSTAMP:20260419T185740
CREATED:20210411T225823Z
LAST-MODIFIED:20210411T231301Z
UID:10001703-1623436200-1623443400@www.pickwickandcherry.com
SUMMARY:The Mariner's Feast
DESCRIPTION:Join us for some tantalizing maritime cuisine in this epic Date Night Cooking Experience. We’ll be preparing maple glazed salmon\, griddled crab cake\, leek and corn risotto\, cucumber salad\, and wild blueberry tarts. After we prepare our feast\, you’ll devour while we do the dishes! \nEach ticket admits TWO PEOPLE. \nAt this time\, due to the size of our venue\, the nature of this event and ongoing safety concerns\, we are only permitting attendees who are fully vaccinated against COVID-19. Please bring proof of vaccination status with you to the event. \n 
URL:https://www.pickwickandcherry.com/event/the-mariners-feast/
LOCATION:Pickwick & Cherry Kitchen\, 607 S Pickwick\, Rear Door\, Springfield\, MO\, 65802\, United States
CATEGORIES:Date Night Cooking Dinner
ATTACH;FMTTYPE=image/jpeg:https://www.pickwickandcherry.com/wp-content/uploads/2021/04/AdobeStock_164723352_Preview-1-2-1-3.jpg
END:VEVENT
BEGIN:VEVENT
DTSTART;TZID=UTC:20210612T130000
DTEND;TZID=UTC:20210612T160000
DTSTAMP:20260419T185740
CREATED:20210412T214416Z
LAST-MODIFIED:20210412T214636Z
UID:10001725-1623502800-1623513600@www.pickwickandcherry.com
SUMMARY:Tart It Up Baking Class
DESCRIPTION:We’re stepping into summer by making tons of tasty tarts in this terrific class. We’ll make a multi-colored Polish Royal Mazurka tart\, a raspberry Linzer tort\, a modern lemon meringue tart\, and a beautiful fruit tart filled with pastry cream. \nTicket admits ONE. \nAt this time\, due to the size of our venue\, the nature of this event and ongoing safety concerns\, we are only permitting attendees who are fully vaccinated against COVID-19. Please bring proof of vaccination status with you to the event.
URL:https://www.pickwickandcherry.com/event/tart-it-up-baking-class/
LOCATION:Pickwick & Cherry Kitchen\, 607 S Pickwick\, Rear Door\, Springfield\, MO\, 65802\, United States
CATEGORIES:Baking Class
ATTACH;FMTTYPE=image/jpeg:https://www.pickwickandcherry.com/wp-content/uploads/2021/04/New-Project-17.jpg
END:VEVENT
BEGIN:VEVENT
DTSTART;VALUE=DATE:20210619
DTEND;VALUE=DATE:20210620
DTSTAMP:20260419T185740
CREATED:20210221T044349Z
LAST-MODIFIED:20210525T213927Z
UID:10001682-1624060800-1624147199@www.pickwickandcherry.com
SUMMARY:The Art of Tea Workshop
DESCRIPTION:Expand your knowledge of the teas of the world\, and try your hand at making your own custom blends! We’ll sample luxury black\, green\, oolong\, white and herbal teas from around the world\, and discover a rich palette of flowers\, fruits\, herbs\, spices\, and flavors that make teas delicious and beautiful. Then\, it’s your turn to create two custom blends to take home! \nEach ticket admits ONE PERSON. \nAt this time\, due to the size of our venue\, the nature of this event and ongoing safety concerns\, we are only permitting attendees who are fully vaccinated against COVID-19. Please bring proof of vaccination status with you to the event. \n\n				\n					\n				\n					\n						\n						Infusing herbal teas\n						 \n					\n				\n					\n				\n					\n						\n						Flights of black and green teas waiting to be infused. \n						 \n					\n				\n					\n				\n					\n						\n						Mixing tea is serious business!
URL:https://www.pickwickandcherry.com/event/the-art-of-tea-workshop/
LOCATION:Pickwick & Cherry Kitchen\, 607 S Pickwick\, Rear Door\, Springfield\, MO\, 65802\, United States
CATEGORIES:Tea Parties
ATTACH;FMTTYPE=image/jpeg:https://www.pickwickandcherry.com/wp-content/uploads/2021/02/cropped-cropped-20210222_143835-1.jpg
END:VEVENT
BEGIN:VEVENT
DTSTART;TZID=UTC:20210625T183000
DTEND;TZID=UTC:20210625T203000
DTSTAMP:20260419T185740
CREATED:20210411T232048Z
LAST-MODIFIED:20221125T053444Z
UID:10001719-1624645800-1624653000@www.pickwickandcherry.com
SUMMARY:Ah\, Paris Date Night Cooking Experience
DESCRIPTION:Join us on a culinary Tour de France with this delicious French-inspired summer menu. We’ll prepare and feast on duck two ways: apricot-orange duck breast\, braised haricots verts\, fresh tomato soup\, grilled canteloupe with blue cheese\, and summer berry religieuse for dessert. After we prepare dinner together\, you’ll sit down and enjoy your meal while we do the dishes. \nEach ticket admits TWO PEOPLE. \nAt this time\, due to the size of our venue\, the nature of this event and ongoing safety concerns\, we are only permitting attendees who are fully vaccinated against COVID-19. Please bring proof of vaccination status with you to the event.
URL:https://www.pickwickandcherry.com/event/963/
LOCATION:Pickwick & Cherry Kitchen\, 607 S Pickwick\, Rear Door\, Springfield\, MO\, 65802\, United States
CATEGORIES:Date Night Cooking Dinner
ATTACH;FMTTYPE=image/jpeg:https://www.pickwickandcherry.com/wp-content/uploads/2021/04/AdobeStock_164723352_Preview-1-6.jpg
END:VEVENT
BEGIN:VEVENT
DTSTART;TZID=UTC:20210626T183000
DTEND;TZID=UTC:20210626T203000
DTSTAMP:20260419T185740
CREATED:20210411T232048Z
LAST-MODIFIED:20221125T053414Z
UID:10001720-1624732200-1624739400@www.pickwickandcherry.com
SUMMARY:Ah\, Paris Date Night Cooking Experience
DESCRIPTION:Join us on a culinary Tour de France with this delicious French-inspired summer menu. We’ll prepare and feast on duck two ways: apricot-orange duck breast\, braised haricots verts\, fresh tomato soup\, grilled canteloupe with blue cheese\, and summer berry religieuse for dessert. After we prepare dinner together\, you’ll sit down and enjoy your meal while we do the dishes. \nEach ticket admits TWO PEOPLE. \nAt this time\, due to the size of our venue\, the nature of this event and ongoing safety concerns\, we are only permitting attendees who are fully vaccinated against COVID-19. Please bring proof of vaccination status with you to the event.
URL:https://www.pickwickandcherry.com/event/963-2021-06-26/
LOCATION:Pickwick & Cherry Kitchen\, 607 S Pickwick\, Rear Door\, Springfield\, MO\, 65802\, United States
CATEGORIES:Date Night Cooking Dinner
ATTACH;FMTTYPE=image/jpeg:https://www.pickwickandcherry.com/wp-content/uploads/2021/04/AdobeStock_164723352_Preview-1-6.jpg
END:VEVENT
END:VCALENDAR