BEGIN:VCALENDAR
VERSION:2.0
PRODID:-//Pickwick &amp; Cherry - ECPv6.14.1//NONSGML v1.0//EN
CALSCALE:GREGORIAN
METHOD:PUBLISH
X-WR-CALNAME:Pickwick &amp; Cherry
X-ORIGINAL-URL:https://www.pickwickandcherry.com
X-WR-CALDESC:Events for Pickwick &amp; Cherry
REFRESH-INTERVAL;VALUE=DURATION:PT1H
X-Robots-Tag:noindex
X-PUBLISHED-TTL:PT1H
BEGIN:VTIMEZONE
TZID:UTC
BEGIN:STANDARD
TZOFFSETFROM:+0000
TZOFFSETTO:+0000
TZNAME:UTC
DTSTART:20260101T000000
END:STANDARD
END:VTIMEZONE
BEGIN:VEVENT
DTSTART;TZID=UTC:20260215T183000
DTEND;TZID=UTC:20260215T210000
DTSTAMP:20260424T002125
CREATED:20251108T024200Z
LAST-MODIFIED:20251128T030936Z
UID:10002914-1771180200-1771189200@www.pickwickandcherry.com
SUMMARY:Cajun Carnival Date Night Cooking Experience
DESCRIPTION:Start your Mardi Gras week with a little Louisiana magic! Join us for a cozy\, hands-on Classic Cajun Date Night at Pickwick & Cherry\, where the oil sizzles\, the roux darkens\, and the good times roll.  \nTogether we will fry up golden boudin balls with creamy remoulade and crisp hush puppies\, stir together buttery\, colorful maque choux (that’s Cajun creamed corn\, for the uninitiated)\, and master the deep\, smoky flavors of a classic shrimp étouffée\, ladled over rice. \nTo end the evening\, we’ll call gather ’round to frost and share a single magnificent King Cake\, decorated in Mardi Gras colors and hiding the baby that determines who’s king of the feast (and gets to host next year.) It’s a proper Louisiana finish to a night of spice and celebration. \n\n\n\n\n\n\n\n\n\n  \nBYOB \n  \nWe suggest a bright\, food-friendly wine — perhaps an off-dry Riesling\, a crisp Sauvignon Blanc\, or a festive Brut Prosecco. Each pairs beautifully with the spice of the étouffée\, the richness of the fried dishes\, and the sweetness of the King Cake. \n\n\n\n\n  \nADMIT TWO \n  \nEach ticket admits two people! You don’t have to bring a romantic partner; friends\, gal pals\, adult kids\, parents\, anybody you want to share the cooking and eating with is great! \n\n\n\n\n  \nRules & Policies \n  \nComplete Event & Ticket Policies can be found here. Please read them!  \n\n\n\n\n  \nHave More Questions? \n  \nCheck our FAQ\, and then send us a message if you still have questions!  
URL:https://www.pickwickandcherry.com/event/classic-cajun-date-night-cooking-experience-11/
LOCATION:Pickwick & Cherry Kitchen\, 607 S Pickwick\, Rear Door\, Springfield\, MO\, 65802\, United States
CATEGORIES:Date Night Cooking Dinner
ATTACH;FMTTYPE=image/jpeg:https://www.pickwickandcherry.com/wp-content/uploads/2025/11/cajun-carnival-rectangle.jpg
END:VEVENT
END:VCALENDAR