BEGIN:VCALENDAR
VERSION:2.0
PRODID:-//Pickwick &amp; Cherry - ECPv6.14.1//NONSGML v1.0//EN
CALSCALE:GREGORIAN
METHOD:PUBLISH
X-WR-CALNAME:Pickwick &amp; Cherry
X-ORIGINAL-URL:https://www.pickwickandcherry.com
X-WR-CALDESC:Events for Pickwick &amp; Cherry
REFRESH-INTERVAL;VALUE=DURATION:PT1H
X-Robots-Tag:noindex
X-PUBLISHED-TTL:PT1H
BEGIN:VTIMEZONE
TZID:UTC
BEGIN:STANDARD
TZOFFSETFROM:+0000
TZOFFSETTO:+0000
TZNAME:UTC
DTSTART:20260101T000000
END:STANDARD
END:VTIMEZONE
BEGIN:VTIMEZONE
TZID:America/Chicago
BEGIN:DAYLIGHT
TZOFFSETFROM:-0600
TZOFFSETTO:-0500
TZNAME:CDT
DTSTART:20260308T080000
END:DAYLIGHT
BEGIN:STANDARD
TZOFFSETFROM:-0500
TZOFFSETTO:-0600
TZNAME:CST
DTSTART:20261101T070000
END:STANDARD
END:VTIMEZONE
BEGIN:VEVENT
DTSTART;TZID=UTC:20260301T130000
DTEND;TZID=UTC:20260301T153000
DTSTAMP:20260422T181142
CREATED:20251111T165004Z
LAST-MODIFIED:20251111T165004Z
UID:10002936-1772370000-1772379000@www.pickwickandcherry.com
SUMMARY:Croissants\, Puff Pastry\, and Beyond Baking Class
DESCRIPTION:Learn the magic behind buttery\, flaky pastries in this hands-on workshop all about laminated doughs. You’ll work with croissant dough\, puff pastry\, and brioche feuilletée to create a gorgeous variety of pastries from croissant cinnamon rolls to braided chocolate coffee cake.  \nWe’ll guide you through the folding\, rolling\, and shaping techniques that give these treats their signature layers. You’ll leave with a box full of golden\, delicious pastries and a new appreciation for the craft behind every flaky bite. \nPerfect for passionate home bakers or anyone who’s ever wondered what it really takes to make a croissant from scratch. \n\n\n\n\n\n\n\n\n\n\n  \nADMIT ONE \n  \nEach ticket admits one person\, but don’t let that stop you.  This is a great experience to share with friends\, family\, neighbors\, coworkers\, frenemies\, and anybody you want to share the cooking and eating with! \n\n\n\n\n  \nRules & Policies \n  \nComplete Event & Ticket Policies can be found here. Please read them!  \n\n\n\n\n  \nHave More Questions? \n  \nCheck our FAQ\, and then send us a message if you still have questions!  
URL:https://www.pickwickandcherry.com/event/croissants-puff-pastry-and-beyond-baking-class-28/
LOCATION:Pickwick & Cherry Kitchen\, 607 S Pickwick\, Rear Door\, Springfield\, MO\, 65802\, United States
CATEGORIES:Baking Class
ATTACH;FMTTYPE=image/jpeg:https://www.pickwickandcherry.com/wp-content/uploads/2021/11/New-Project-28.jpg
END:VEVENT
BEGIN:VEVENT
DTSTART;TZID=America/Chicago:20260307T130000
DTEND;TZID=America/Chicago:20260307T153000
DTSTAMP:20260422T181142
CREATED:20251112T045947Z
LAST-MODIFIED:20251112T050524Z
UID:10002938-1772888400-1772897400@www.pickwickandcherry.com
SUMMARY:Cheesecakes of the World Baking Class
DESCRIPTION:Join us for a unique culinary adventure with our “Cheesecakes of the World” baking class! In this class\, you’ll learn to create delicious and sophisticated cheesecakes from various regions across the globe. From an Alsacian cheese cake with Greek yogurt and rum-soaked raisins to the ethereal Japanese Cotton cheesecake\, a cannoli-inspired cheesecake with fresh ricotta\, a Mediterranean cheesecake with figs\, orange\, and mascarpone\, and a blue cheesecake with cherries inspired by a recent trip to Norway\, we’ve got something to please every palate. \nIn this hands-on class\, we will will guide you through each step of the cheesecake-making process\, from choosing the right ingredients to perfecting your baking techniques. You’ll leave the class with the skills and knowledge to impress your friends and family with these unique and delicious cheesecake creations. So come join us for an unforgettable culinary experience that will take your cheesecake game to the next level! \n  \n\n\n\n\n\n\n\n\n\n  \nADMIT ONE \n  \nEach ticket admits one person\, but don’t let that stop you.  This is a great experience to share with friends\, family\, neighbors\, coworkers\, frenemies\, and anybody you want to share the cooking and eating with! \n\n\n\n\n  \nRules & Policies \n  \nComplete Event & Ticket Policies can be found here. Please read them!  \n\n\n\n\n  \nHave More Questions? \n  \nCheck our FAQ\, and then send us a message if you still have questions!  
URL:https://www.pickwickandcherry.com/event/cheesecakes-of-the-world-baking-class-12/
LOCATION:Pickwick & Cherry Kitchen\, 607 S Pickwick\, Rear Door\, Springfield\, MO\, 65802\, United States
CATEGORIES:Baking Class
ATTACH;FMTTYPE=image/jpeg:https://www.pickwickandcherry.com/wp-content/uploads/2023/03/cheesecakes-of-the-world-scaled.jpg
END:VEVENT
BEGIN:VEVENT
DTSTART;TZID=America/Chicago:20260308T130000
DTEND;TZID=America/Chicago:20260308T153000
DTSTAMP:20260422T181142
CREATED:20251112T050500Z
LAST-MODIFIED:20251112T050500Z
UID:10002942-1772974800-1772983800@www.pickwickandcherry.com
SUMMARY:Cheesecakes of the World Baking Class
DESCRIPTION:Join us for a unique culinary adventure with our “Cheesecakes of the World” baking class! In this class\, you’ll learn to create delicious and sophisticated cheesecakes from various regions across the globe. From an Alsacian cheese cake with Greek yogurt and rum-soaked raisins to the ethereal Japanese Cotton cheesecake\, a cannoli-inspired cheesecake with fresh ricotta\, a Mediterranean cheesecake with figs\, orange\, and mascarpone\, and a blue cheesecake with cherries inspired by a recent trip to Norway\, we’ve got something to please every palate. \nIn this hands-on class\, we will will guide you through each step of the cheesecake-making process\, from choosing the right ingredients to perfecting your baking techniques. You’ll leave the class with the skills and knowledge to impress your friends and family with these unique and delicious cheesecake creations. So come join us for an unforgettable culinary experience that will take your cheesecake game to the next level! \n  \n\n\n\n\n\n\n\n\n\n  \nADMIT ONE \n  \nEach ticket admits one person\, but don’t let that stop you.  This is a great experience to share with friends\, family\, neighbors\, coworkers\, frenemies\, and anybody you want to share the cooking and eating with! \n\n\n\n\n  \nRules & Policies \n  \nComplete Event & Ticket Policies can be found here. Please read them!  \n\n\n\n\n  \nHave More Questions? \n  \nCheck our FAQ\, and then send us a message if you still have questions!  
URL:https://www.pickwickandcherry.com/event/cheesecakes-of-the-world-baking-class-13/
LOCATION:Pickwick & Cherry Kitchen\, 607 S Pickwick\, Rear Door\, Springfield\, MO\, 65802\, United States
CATEGORIES:Baking Class
ATTACH;FMTTYPE=image/jpeg:https://www.pickwickandcherry.com/wp-content/uploads/2023/03/cheesecakes-of-the-world-scaled.jpg
END:VEVENT
BEGIN:VEVENT
DTSTART;TZID=America/Chicago:20260314T130000
DTEND;TZID=America/Chicago:20260314T160000
DTSTAMP:20260422T181142
CREATED:20251112T000218Z
LAST-MODIFIED:20251113T022533Z
UID:10002939-1773493200-1773504000@www.pickwickandcherry.com
SUMMARY:Home Cheesemaking Class
DESCRIPTION:How does liquid milk become rich\, creamy\, and delicious cheese? The answer is both ancient and astonishingly simple — and in this hands-on afternoon workshop\, we’ll explore it together through a full lineup of fresh\, homemade cheeses. \nJoin our resident cheesemaker Ryan for an afternoon of curds\, cultures\, and culinary alchemy as we make an astonishing variety of cheeses right in the kitchen. We’ll start with Ricotta and Paneer\, two simple and ancient cheeses that show how easily milk can be transformed. Then we’ll explore cultured varieties like Vache (Fromage Blanc) and Yogurt\, and turn that yogurt into Labneh\, a luscious\, spreadable cheese that’s as versatile as it is delicious. Along the way\, we’ll spin that same yogurt into Frozen Yogurt  because the only thing better than dairy is dairy dessert.  \nWe’ll also make old-fashioned Cottage Cheese\, and even Junket\, a nostalgic rennet-based dessert that’s nearly vanished from modern kitchens. Finally\, we’ll master the quick-stretch magic of Mozzarella\, and\, time permitting\, create its cream-filled cousin\, Burrata. \nYou’ll learn the science and technique behind each transformation\, how to source your ingredients\, and how to continue your cheesemaking adventures at home with minimal equipment and maximum deliciousness. \nThis workshop is part cooking class\, part food science experiment\, and entirely delightful. Once you’ve made your own cheese\, you’ll never look at a gallon of milk the same way again. \n\n\n\n\n\n\n\n\n\n\n\n\n\n\n  \nBYOB \n  \nWhile BYOB isn’t expected for this cheesemaking class\, we suggest a crisp white wine like Sauvignon Blanc\, or a light\, dry cider to pair with your fresh creations if you’re into that sort of thing. \n\n\n\n\n  \nADMIT ONE \n  \nEach ticket admits one person\, but don’t let that stop you.  This is a great experience to share with friends\, family\, neighbors\, coworkers\, frenemies\, and anybody you want to share the cooking and eating with! \n\n\n\n\n  \nRules & Policies \n  \nComplete Event & Ticket Policies can be found here. Please read them!  \n\n\n\n\n  \nHave More Questions? \n  \nCheck our FAQ\, and then send us a message if you still have questions!  
URL:https://www.pickwickandcherry.com/event/home-cheesemaking-class-27/
LOCATION:Pickwick & Cherry Kitchen\, 607 S Pickwick\, Rear Door\, Springfield\, MO\, 65802\, United States
CATEGORIES:Baking Class,Culinary Workshop
ATTACH;FMTTYPE=image/jpeg:https://www.pickwickandcherry.com/wp-content/uploads/2025/11/Cheesemaking-Long-NEW.jpg
END:VEVENT
BEGIN:VEVENT
DTSTART;TZID=America/Chicago:20260315T130000
DTEND;TZID=America/Chicago:20260315T160000
DTSTAMP:20260422T181142
CREATED:20251112T001356Z
LAST-MODIFIED:20251113T022557Z
UID:10002940-1773579600-1773590400@www.pickwickandcherry.com
SUMMARY:Home Cheesemaking Class
DESCRIPTION:How does liquid milk become rich\, creamy\, and delicious cheese? The answer is both ancient and astonishingly simple — and in this hands-on afternoon workshop\, we’ll explore it together through a full lineup of fresh\, homemade cheeses. \nJoin our resident cheesemaker Ryan for an afternoon of curds\, cultures\, and culinary alchemy as we make an astonishing variety of cheeses right in the kitchen. We’ll start with Ricotta and Paneer\, two simple and ancient cheeses that show how easily milk can be transformed. Then we’ll explore cultured varieties like Vache (Fromage Blanc) and Yogurt\, and turn that yogurt into Labneh\, a luscious\, spreadable cheese that’s as versatile as it is delicious. Along the way\, we’ll spin that same yogurt into Frozen Yogurt  because the only thing better than dairy is dairy dessert.  \nWe’ll also make old-fashioned Cottage Cheese\, and even Junket\, a nostalgic rennet-based dessert that’s nearly vanished from modern kitchens. Finally\, we’ll master the quick-stretch magic of Mozzarella\, and\, time permitting\, create its cream-filled cousin\, Burrata. \nYou’ll learn the science and technique behind each transformation\, how to source your ingredients\, and how to continue your cheesemaking adventures at home with minimal equipment and maximum deliciousness. \nThis workshop is part cooking class\, part food science experiment\, and entirely delightful. Once you’ve made your own cheese\, you’ll never look at a gallon of milk the same way again. \n\n\n\n\n\n\n\n\n\n\n\n\n\n\n  \nBYOB \n  \nWhile BYOB isn’t expected for this cheesemaking class\, we suggest a crisp white wine like Sauvignon Blanc\, or a light\, dry cider to pair with your fresh creations if you’re into that sort of thing. \n\n\n\n\n  \nADMIT ONE \n  \nEach ticket admits one person\, but don’t let that stop you.  This is a great experience to share with friends\, family\, neighbors\, coworkers\, frenemies\, and anybody you want to share the cooking and eating with! \n\n\n\n\n  \nRules & Policies \n  \nComplete Event & Ticket Policies can be found here. Please read them!  \n\n\n\n\n  \nHave More Questions? \n  \nCheck our FAQ\, and then send us a message if you still have questions!  
URL:https://www.pickwickandcherry.com/event/home-cheesemaking-class-28/
LOCATION:Pickwick & Cherry Kitchen\, 607 S Pickwick\, Rear Door\, Springfield\, MO\, 65802\, United States
CATEGORIES:Baking Class,Culinary Workshop
ATTACH;FMTTYPE=image/jpeg:https://www.pickwickandcherry.com/wp-content/uploads/2025/11/Cheesemaking-Long-NEW.jpg
END:VEVENT
BEGIN:VEVENT
DTSTART;TZID=UTC:20260321T130000
DTEND;TZID=UTC:20260321T160000
DTSTAMP:20260422T181142
CREATED:20251113T020710Z
LAST-MODIFIED:20251113T021642Z
UID:10002943-1774098000-1774108800@www.pickwickandcherry.com
SUMMARY:Pasta Perfecta Hands-On Culinary Workshop
DESCRIPTION:We celebrate the timeless art of fresh pasta-making in Pasta Perfecta\, a fully hands-on workshop where flour\, water\, and creativity come together to form something extraordinary. Together\, we’ll explore the many doughs\, shapes\, and colors that make handmade pasta endlessly exciting. \nWe’ll begin by mixing a variety of doughs — from sturdy semolina to silky Neapolitan-style flour — and experimenting with natural colorants like spinach\, beet powder\, carrot\, tomato\, black garlic\, and occasionally saffron. You’ll see how simple ingredients transform into vibrant\, flavorful doughs that reflect both Italian tradition and personal imagination. \nFrom there\, we’ll roll and shape pasta by hand\, learning how to form ribbons\, twists\, and sheets that can be cut\, layered\, or stuffed. Using both classic rollers and modern cutters\, we’ll create pastas in multiple styles — from delicate tagliatelle and pappardelle to filled varieties like ricotta ravioli or short rib agnolotti. \nAlong the way\, we’ll talk technique\, texture\, and tradition — from kneading and resting to how different flours and hydration levels change the final bite. This isn’t a meal\, but an immersive\, tactile experience where you’ll leave with your own eclectic collection of fresh pastas to cook or dry at home. \nWhether you’re brand new to pasta or deep into your culinary journey\, Pasta Perfecta is a joyful afternoon of flour\, laughter\, and edible art. \n  \n\n\n\n\n\n\n\n\n\n  \nADMIT ONE \n  \nEach ticket admits one person\, but don’t let that stop you.  This is a great experience to share with friends\, family\, neighbors\, coworkers\, frenemies\, and anybody you want to share the cooking and eating with! \n\n\n\n\n  \nRules & Policies \n  \nComplete Event & Ticket Policies can be found here. Please read them!  \n\n\n\n\n  \nHave More Questions? \n  \nCheck our FAQ\, and then send us a message if you still have questions!  
URL:https://www.pickwickandcherry.com/event/pasta-perfecta-hands-on-culinary-workshop-13/
LOCATION:Pickwick & Cherry Kitchen\, 607 S Pickwick\, Rear Door\, Springfield\, MO\, 65802\, United States
CATEGORIES:Baking Class
ATTACH;FMTTYPE=image/jpeg:https://www.pickwickandcherry.com/wp-content/uploads/2024/02/Pasta-Perfecta-Rectangle.jpg
END:VEVENT
BEGIN:VEVENT
DTSTART;TZID=UTC:20260322T130000
DTEND;TZID=UTC:20260322T160000
DTSTAMP:20260422T181142
CREATED:20251113T021045Z
LAST-MODIFIED:20251113T021652Z
UID:10002944-1774184400-1774195200@www.pickwickandcherry.com
SUMMARY:Pasta Perfecta Hands-On Culinary Workshop
DESCRIPTION:We celebrate the timeless art of fresh pasta-making in Pasta Perfecta\, a fully hands-on workshop where flour\, water\, and creativity come together to form something extraordinary. Together\, we’ll explore the many doughs\, shapes\, and colors that make handmade pasta endlessly exciting. \nWe’ll begin by mixing a variety of doughs — from sturdy semolina to silky Neapolitan-style flour — and experimenting with natural colorants like spinach\, beet powder\, carrot\, tomato\, black garlic\, and occasionally saffron. You’ll see how simple ingredients transform into vibrant\, flavorful doughs that reflect both Italian tradition and personal imagination. \nFrom there\, we’ll roll and shape pasta by hand\, learning how to form ribbons\, twists\, and sheets that can be cut\, layered\, or stuffed. Using both classic rollers and modern cutters\, we’ll create pastas in multiple styles — from delicate tagliatelle and pappardelle to filled varieties like ricotta ravioli or short rib agnolotti. \nAlong the way\, we’ll talk technique\, texture\, and tradition — from kneading and resting to how different flours and hydration levels change the final bite. This isn’t a meal\, but an immersive\, tactile experience where you’ll leave with your own eclectic collection of fresh pastas to cook or dry at home. \nWhether you’re brand new to pasta or deep into your culinary journey\, Pasta Perfecta is a joyful afternoon of flour\, laughter\, and edible art. \n\n\n\n\n\n\n\n\n\n  \nADMIT ONE \n  \nEach ticket admits one person\, but don’t let that stop you.  This is a great experience to share with friends\, family\, neighbors\, coworkers\, frenemies\, and anybody you want to share the cooking and eating with! \n\n\n\n\n  \nRules & Policies \n  \nComplete Event & Ticket Policies can be found here. Please read them!  \n\n\n\n\n  \nHave More Questions? \n  \nCheck our FAQ\, and then send us a message if you still have questions!  
URL:https://www.pickwickandcherry.com/event/pasta-perfecta-hands-on-culinary-workshop-14/
LOCATION:Pickwick & Cherry Kitchen\, 607 S Pickwick\, Rear Door\, Springfield\, MO\, 65802\, United States
CATEGORIES:Baking Class
ATTACH;FMTTYPE=image/jpeg:https://www.pickwickandcherry.com/wp-content/uploads/2024/02/Pasta-Perfecta-Rectangle.jpg
END:VEVENT
BEGIN:VEVENT
DTSTART;TZID=America/Chicago:20260328T130000
DTEND;TZID=America/Chicago:20260328T160000
DTSTAMP:20260422T181142
CREATED:20260301T165828Z
LAST-MODIFIED:20260301T165828Z
UID:10003027-1774702800-1774713600@www.pickwickandcherry.com
SUMMARY:Home Cheesemaking Class
DESCRIPTION:How does liquid milk become rich\, creamy\, and delicious cheese? The answer is both ancient and astonishingly simple — and in this hands-on afternoon workshop\, we’ll explore it together through a full lineup of fresh\, homemade cheeses. \nJoin our resident cheesemaker Ryan for an afternoon of curds\, cultures\, and culinary alchemy as we make an astonishing variety of cheeses right in the kitchen. We’ll start with Ricotta and Paneer\, two simple and ancient cheeses that show how easily milk can be transformed. Then we’ll explore cultured varieties like Vache (Fromage Blanc) and Yogurt\, and turn that yogurt into Labneh\, a luscious\, spreadable cheese that’s as versatile as it is delicious. Along the way\, we’ll spin that same yogurt into Frozen Yogurt  because the only thing better than dairy is dairy dessert.  \nWe’ll also make old-fashioned Cottage Cheese\, and even Junket\, a nostalgic rennet-based dessert that’s nearly vanished from modern kitchens. Finally\, we’ll master the quick-stretch magic of Mozzarella\, and\, time permitting\, create its cream-filled cousin\, Burrata. \nYou’ll learn the science and technique behind each transformation\, how to source your ingredients\, and how to continue your cheesemaking adventures at home with minimal equipment and maximum deliciousness. \nThis workshop is part cooking class\, part food science experiment\, and entirely delightful. Once you’ve made your own cheese\, you’ll never look at a gallon of milk the same way again. \n\n\n\n\n\n\n\n\n\n\n\n\n\n\n  \nBYOB \n  \nWhile BYOB isn’t expected for this cheesemaking class\, we suggest a crisp white wine like Sauvignon Blanc\, or a light\, dry cider to pair with your fresh creations if you’re into that sort of thing. \n\n\n\n\n  \nADMIT ONE \n  \nEach ticket admits one person\, but don’t let that stop you.  This is a great experience to share with friends\, family\, neighbors\, coworkers\, frenemies\, and anybody you want to share the cooking and eating with! \n\n\n\n\n  \nRules & Policies \n  \nComplete Event & Ticket Policies can be found here. Please read them!  \n\n\n\n\n  \nHave More Questions? \n  \nCheck our FAQ\, and then send us a message if you still have questions!  
URL:https://www.pickwickandcherry.com/event/home-cheesemaking-class-30/
LOCATION:Pickwick & Cherry Kitchen\, 607 S Pickwick\, Rear Door\, Springfield\, MO\, 65802\, United States
CATEGORIES:Baking Class,Culinary Workshop
ATTACH;FMTTYPE=image/jpeg:https://www.pickwickandcherry.com/wp-content/uploads/2025/11/Cheesemaking-Long-NEW.jpg
END:VEVENT
BEGIN:VEVENT
DTSTART;TZID=America/Chicago:20260329T130000
DTEND;TZID=America/Chicago:20260329T160000
DTSTAMP:20260422T181142
CREATED:20260301T165822Z
LAST-MODIFIED:20260301T165822Z
UID:10003029-1774789200-1774800000@www.pickwickandcherry.com
SUMMARY:Home Cheesemaking Class
DESCRIPTION:How does liquid milk become rich\, creamy\, and delicious cheese? The answer is both ancient and astonishingly simple — and in this hands-on afternoon workshop\, we’ll explore it together through a full lineup of fresh\, homemade cheeses. \nJoin our resident cheesemaker Ryan for an afternoon of curds\, cultures\, and culinary alchemy as we make an astonishing variety of cheeses right in the kitchen. We’ll start with Ricotta and Paneer\, two simple and ancient cheeses that show how easily milk can be transformed. Then we’ll explore cultured varieties like Vache (Fromage Blanc) and Yogurt\, and turn that yogurt into Labneh\, a luscious\, spreadable cheese that’s as versatile as it is delicious. Along the way\, we’ll spin that same yogurt into Frozen Yogurt  because the only thing better than dairy is dairy dessert.  \nWe’ll also make old-fashioned Cottage Cheese\, and even Junket\, a nostalgic rennet-based dessert that’s nearly vanished from modern kitchens. Finally\, we’ll master the quick-stretch magic of Mozzarella\, and\, time permitting\, create its cream-filled cousin\, Burrata. \nYou’ll learn the science and technique behind each transformation\, how to source your ingredients\, and how to continue your cheesemaking adventures at home with minimal equipment and maximum deliciousness. \nThis workshop is part cooking class\, part food science experiment\, and entirely delightful. Once you’ve made your own cheese\, you’ll never look at a gallon of milk the same way again. \n\n\n\n\n\n\n\n\n\n\n\n\n\n\n  \nBYOB \n  \nWhile BYOB isn’t expected for this cheesemaking class\, we suggest a crisp white wine like Sauvignon Blanc\, or a light\, dry cider to pair with your fresh creations if you’re into that sort of thing. \n\n\n\n\n  \nADMIT ONE \n  \nEach ticket admits one person\, but don’t let that stop you.  This is a great experience to share with friends\, family\, neighbors\, coworkers\, frenemies\, and anybody you want to share the cooking and eating with! \n\n\n\n\n  \nRules & Policies \n  \nComplete Event & Ticket Policies can be found here. Please read them!  \n\n\n\n\n  \nHave More Questions? \n  \nCheck our FAQ\, and then send us a message if you still have questions!  
URL:https://www.pickwickandcherry.com/event/home-cheesemaking-class-29/
LOCATION:Pickwick & Cherry Kitchen\, 607 S Pickwick\, Rear Door\, Springfield\, MO\, 65802\, United States
CATEGORIES:Baking Class,Culinary Workshop
ATTACH;FMTTYPE=image/jpeg:https://www.pickwickandcherry.com/wp-content/uploads/2025/11/Cheesemaking-Long-NEW.jpg
END:VEVENT
END:VCALENDAR