BEGIN:VCALENDAR
VERSION:2.0
PRODID:-//Pickwick &amp; Cherry - ECPv6.14.1//NONSGML v1.0//EN
CALSCALE:GREGORIAN
METHOD:PUBLISH
X-ORIGINAL-URL:https://www.pickwickandcherry.com
X-WR-CALDESC:Events for Pickwick &amp; Cherry
REFRESH-INTERVAL;VALUE=DURATION:PT1H
X-Robots-Tag:noindex
X-PUBLISHED-TTL:PT1H
BEGIN:VTIMEZONE
TZID:America/Chicago
BEGIN:DAYLIGHT
TZOFFSETFROM:-0600
TZOFFSETTO:-0500
TZNAME:CDT
DTSTART:20260308T080000
END:DAYLIGHT
BEGIN:STANDARD
TZOFFSETFROM:-0500
TZOFFSETTO:-0600
TZNAME:CST
DTSTART:20261101T070000
END:STANDARD
END:VTIMEZONE
BEGIN:VTIMEZONE
TZID:UTC
BEGIN:STANDARD
TZOFFSETFROM:+0000
TZOFFSETTO:+0000
TZNAME:UTC
DTSTART:20260101T000000
END:STANDARD
END:VTIMEZONE
BEGIN:VEVENT
DTSTART;TZID=America/Chicago:20260516T093000
DTEND;TZID=America/Chicago:20260516T123000
DTSTAMP:20260422T191131
CREATED:20260226T052508Z
LAST-MODIFIED:20260226T161647Z
UID:10002986-1778923800-1778934600@www.pickwickandcherry.com
SUMMARY:Sourdough & Naturally Leavened Breads Baking Class
DESCRIPTION:Sourdough & Naturally Leavened Breads Baking Class\nWe celebrate the art\, science\, and flavor of naturally leavened breads in our Sourdough & Naturally Leavened Breads Baking Class. Together\, we’ll explore the fascinating world of wild yeast\, long fermentation\, and rustic baking traditions that bring unmatched character and taste to every loaf. \nWe’ll begin with the foundation: an artisan sourdough\, learning the steps of mixing\, folding\, proofing\, and baking that create the chewy crust\, open crumb\, and deep tang that make sourdough beloved around the world. From there\, we’ll branch out into variations that highlight how versatile naturally leavened breads can be. We’ll bake an aromatic asiago and onion sourdough\, a savory loaf filled with bold\, cheesy flavor and caramelized sweetness. \nWe’ll also step outside sourdough-is-savory box and prepare South African mosbolletjies\, a fragrant\, lightly sweet bread flavored with anise and enriched with all of the dairy products we have. (Not really\, but it feels like it!) This bread was our all-time top seller when we used to sell at the Farmer’s Market — even among people who couldn’t pronounce it (so\, basically\, everyone.)  \nIn addition\, we’ll put every bit of our starter to good use by turning discarded sourdough into crispy\, delicious crackers. These golden\, savory bites reduce waste while adding another skill to our repertoire. \nAlong the way\, we’ll cover essential techniques\, from starter maintenance to shaping methods and decorative techniques\, so that sourdough feels approachable and exciting. Whether rustic or refined\, savory or slightly sweet\, every bread we bake together will deepen our appreciation for this timeless craft. \nBy the end\, we’ll leave with a collection of fresh loaves\, crackers\, and the confidence to keep baking sourdough at home for years to come. And yes\, we will give you starter to take home!  \n\n\n\n\n\n\n\n\n\n \n\n\n\n\n \n\n\n\n\n \n\n\n\n\n \n\n\n\n\n \n\n\n\n\n \n\n\n\n\n\n\n\n\n\n\n  \nADMIT ONE \n  \nEach ticket admits one person\, but don’t let that stop you.  This is a great experience to share with friends\, family\, neighbors\, coworkers\, frenemies\, and anybody you want to share the cooking and eating with! \n\n\n\n\n  \nRules & Policies \n  \nComplete Event & Ticket Policies can be found here. Please read them!  \n\n\n\n\n  \nHave More Questions? \n  \nCheck our FAQ\, and then send us a message if you still have questions!  
URL:https://www.pickwickandcherry.com/event/sourdough-naturally-leavened-breads-baking-class-8/
LOCATION:Pickwick & Cherry Kitchen\, 607 S Pickwick\, Rear Door\, Springfield\, MO\, 65802\, United States
CATEGORIES:Baking Class
ATTACH;FMTTYPE=image/jpeg:https://www.pickwickandcherry.com/wp-content/uploads/2024/05/Naturally-Leavened-Breads-2.jpg
END:VEVENT
BEGIN:VEVENT
DTSTART;TZID=America/Chicago:20260516T130000
DTEND;TZID=America/Chicago:20260516T154500
DTSTAMP:20260422T191131
CREATED:20260226T160611Z
LAST-MODIFIED:20260226T160611Z
UID:10003000-1778936400-1778946300@www.pickwickandcherry.com
SUMMARY:Sourdough & Naturally Leavened Breads Baking Class
DESCRIPTION:Sourdough & Naturally Leavened Breads Baking Class\nWe celebrate the art\, science\, and flavor of naturally leavened breads in our Sourdough & Naturally Leavened Breads Baking Class. Together\, we’ll explore the fascinating world of wild yeast\, long fermentation\, and rustic baking traditions that bring unmatched character and taste to every loaf. \nWe’ll begin with the foundation: an artisan sourdough\, learning the steps of mixing\, folding\, proofing\, and baking that create the chewy crust\, open crumb\, and deep tang that make sourdough beloved around the world. From there\, we’ll branch out into variations that highlight how versatile naturally leavened breads can be. We’ll bake an aromatic asiago and onion sourdough\, a savory loaf filled with bold\, cheesy flavor and caramelized sweetness. \nWe’ll also step outside sourdough-is-savory box and prepare South African mosbolletjies\, a fragrant\, lightly sweet bread flavored with anise and enriched with all of the dairy products we have. (Not really\, but it feels like it!) This bread was our all-time top seller when we used to sell at the Farmer’s Market — even among people who couldn’t pronounce it (so\, basically\, everyone.)  \nAlong the way\, we’ll cover essential techniques\, from starter maintenance to shaping methods and decorative techniques\, so that sourdough feels approachable and exciting. Whether rustic or refined\, savory or slightly sweet\, every bread we bake together will deepen our appreciation for this timeless craft. \nBy the end\, we’ll leave with a collection of fresh loaves and the confidence to keep baking sourdough at home for years to come. And of course\, we will give you starter to take home!  \n\n\n\n\n\n\n\n\n\n \n\n\n\n\n \n\n\n\n\n \n\n\n\n\n \n\n\n\n\n \n\n\n\n\n \n\n\n\n\n\n\n\n\n\n\n  \nADMIT ONE \n  \nEach ticket admits one person\, but don’t let that stop you.  This is a great experience to share with friends\, family\, neighbors\, coworkers\, frenemies\, and anybody you want to share the cooking and eating with! \n\n\n\n\n  \nRules & Policies \n  \nComplete Event & Ticket Policies can be found here. Please read them!  \n\n\n\n\n  \nHave More Questions? \n  \nCheck our FAQ\, and then send us a message if you still have questions!  
URL:https://www.pickwickandcherry.com/event/sourdough-naturally-leavened-breads-baking-class-9/
LOCATION:Pickwick & Cherry Kitchen\, 607 S Pickwick\, Rear Door\, Springfield\, MO\, 65802\, United States
CATEGORIES:Baking Class
ATTACH;FMTTYPE=image/jpeg:https://www.pickwickandcherry.com/wp-content/uploads/2024/05/Naturally-Leavened-Breads-2.jpg
END:VEVENT
BEGIN:VEVENT
DTSTART;TZID=UTC:20260516T183000
DTEND;TZID=UTC:20260516T210000
DTSTAMP:20260422T191131
CREATED:20260226T052056Z
LAST-MODIFIED:20260226T052056Z
UID:10002998-1778956200-1778965200@www.pickwickandcherry.com
SUMMARY:The Mariner's Feast Date Night Cooking Experience
DESCRIPTION:The Mariner’s Feast Date Night Cooking Experience\nJoin us for an evening inspired by bright northern waters and harbor-town kitchens. In this hands-on cooking experience\, we’ll build a seafood-forward feast from start to finish — learning techniques you can take home\, and flavors that feel like summer by the water. \nTogether we’ll prepare maple-glazed salmon with a delicate balance of sweet and savory\, golden griddled crab cakes with crisp edges and tender centers\, and a creamy leek and corn risotto that anchors the plate. A fresh cucumber salad adds brightness and contrast\, and we’ll finish with wild blueberry tarts that are both rustic and elegant. \nAs always at Pickwick & Cherry\, we cook together at one long communal table — sharing tools\, stories\, and plenty of laughter along the way. After the cooking is done\, you’ll sit down to enjoy the full feast while we take care of the cleanup. \nNo experience necessary — just come hungry and ready to cook. \n\n\n\n\n\n\n\n\n\n\n\n\n\n  \nBYOB \n  \nWe suggest a crisp Albariño\, a saline Muscadet\, a dry Riesling\, a cool-climate Chardonnay\, or an elegant Pinot Noir. If you prefer something a bit bolder\, try a restrained Sangiovese. To finish\, a late-harvest Riesling or Banyuls makes a lovely match for blueberries. \n\n\n\n\n  \nRules & Policies \n  \nComplete Event & Ticket Policies can be found here. Please read them!  \n\n\n\n\n  \nHave More Questions? \n  \nCheck our FAQ\, and then send us a message if you still have questions!  
URL:https://www.pickwickandcherry.com/event/the-mariners-feast-date-night-cooking-experience-11/
LOCATION:Pickwick & Cherry Kitchen\, 607 S Pickwick\, Rear Door\, Springfield\, MO\, 65802\, United States
CATEGORIES:Date Night Cooking Dinner
ATTACH;FMTTYPE=image/webp:https://www.pickwickandcherry.com/wp-content/uploads/2025/03/mariners-feast-long.webp
END:VEVENT
END:VCALENDAR