BEGIN:VCALENDAR
VERSION:2.0
PRODID:-//Pickwick &amp; Cherry - ECPv6.14.1//NONSGML v1.0//EN
CALSCALE:GREGORIAN
METHOD:PUBLISH
X-WR-CALNAME:Pickwick &amp; Cherry
X-ORIGINAL-URL:https://www.pickwickandcherry.com
X-WR-CALDESC:Events for Pickwick &amp; Cherry
REFRESH-INTERVAL;VALUE=DURATION:PT1H
X-Robots-Tag:noindex
X-PUBLISHED-TTL:PT1H
BEGIN:VTIMEZONE
TZID:UTC
BEGIN:STANDARD
TZOFFSETFROM:+0000
TZOFFSETTO:+0000
TZNAME:UTC
DTSTART:20240101T000000
END:STANDARD
END:VTIMEZONE
BEGIN:VTIMEZONE
TZID:America/Chicago
BEGIN:DAYLIGHT
TZOFFSETFROM:-0600
TZOFFSETTO:-0500
TZNAME:CDT
DTSTART:20240310T080000
END:DAYLIGHT
BEGIN:STANDARD
TZOFFSETFROM:-0500
TZOFFSETTO:-0600
TZNAME:CST
DTSTART:20241103T070000
END:STANDARD
END:VTIMEZONE
BEGIN:VEVENT
DTSTART;TZID=UTC:20241214T183000
DTEND;TZID=UTC:20241214T211500
DTSTAMP:20260419T210101
CREATED:20241130T145104Z
LAST-MODIFIED:20241130T145104Z
UID:10002583-1734201000-1734210900@www.pickwickandcherry.com
SUMMARY:Holiday Cookie Decorating
DESCRIPTION:Get in the spirit of the season by making beautiful hand-iced Christmas cookies! We’ll roll out and bake sugar cookies\, learn about working with royal icing\, and let our creativity run wild as we decorate Christmas trees\, candy canes\, ornaments\, stockings\, snowflakes\, and more!\nOnce the icing is dry (the next day)\, you’ll be able to take home your cookies\, and they’ll keep till Christmas (unless you eat them first)! This is a great class to take with friends!\n\nThis class always sells out early\, so if you see tickets\, buy them!\n\nIf you’d like to consume a festive adult beverage\, BYOB! \n\n\n\n\n  \n 
URL:https://www.pickwickandcherry.com/event/holiday-cookie-decorating-13/
LOCATION:Pickwick & Cherry Kitchen\, 607 S Pickwick\, Rear Door\, Springfield\, MO\, 65802\, United States
CATEGORIES:Baking Class,Christmas
ATTACH;FMTTYPE=image/jpeg:https://www.pickwickandcherry.com/wp-content/uploads/2021/09/Spooky-Cookie-Rectangle-2.jpg
END:VEVENT
BEGIN:VEVENT
DTSTART;TZID=America/Chicago:20241214T183000
DTEND;TZID=America/Chicago:20241214T213000
DTSTAMP:20260419T210101
CREATED:20241007T021938Z
LAST-MODIFIED:20241021T172800Z
UID:10002512-1734201000-1734211800@www.pickwickandcherry.com
SUMMARY:An Exceptionally Festive Christmas Feast
DESCRIPTION:Imagine — your favorite group of up to 12 people gathering together to prepare a scrumptious holiday feast (under the guidance of our talented instructors)\, then sitting down to share it together! That’s what we’re offering this holiday season — the opportunity to book one of our fabulous hands-on Cooking Experience dinners for your friends\, family\, co-workers\, or whoever else you’d like to invite.  \nThe menu for our private holiday parties is usually boneless prime rib roast\, duck fat potatoes\, brussels sprouts gatton\, spinach\, pear & cranberry salad and a festive seasonal dessert\, but it’s your party\, so please let us know if you’d like to make any alterations and we will work with you to create a menu that everyone will love.  \nThe price listed below is for the whole party. If you wish to make menu substitutions\, there may be an additonal charge. All of our events are BYOB.  \nWant to book a private party for a time other than the ones available here? Contact us! \n\n\nAN EXCEPTIONALLY FESTIVE PRIVATE CHRISTMAS PARTY\n\n\n\n\n\nYou GET \n\nA FUN\, HANDS-ON HOLIDAY EXPERIENCE FOR UP TO 12 PEOPLE\nDELICIOUSLY FESTIVE FOOD\nFUNNY AND CHARMING HOST-INSTRUCTORS\nA PARTY YOU’LL NEVER FORGET!\n\n\n\n\n\n\n\n\n\n\n\n\n\n\n\n\n\n 
URL:https://www.pickwickandcherry.com/event/an-exceptionally-festive-christmas-feast-3/
LOCATION:Pickwick & Cherry Kitchen\, 607 S Pickwick\, Rear Door\, Springfield\, MO\, 65802\, United States
CATEGORIES:Christmas,Date Night Cooking Dinner,Extraordinary Events
ATTACH;FMTTYPE=image/jpeg:https://www.pickwickandcherry.com/wp-content/uploads/2024/10/festive-holiday-feast-long.jpg
END:VEVENT
END:VCALENDAR