BEGIN:VCALENDAR
VERSION:2.0
PRODID:-//Pickwick &amp; Cherry - ECPv6.14.1//NONSGML v1.0//EN
CALSCALE:GREGORIAN
METHOD:PUBLISH
X-WR-CALNAME:Pickwick &amp; Cherry
X-ORIGINAL-URL:https://www.pickwickandcherry.com
X-WR-CALDESC:Events for Pickwick &amp; Cherry
REFRESH-INTERVAL;VALUE=DURATION:PT1H
X-Robots-Tag:noindex
X-PUBLISHED-TTL:PT1H
BEGIN:VTIMEZONE
TZID:UTC
BEGIN:STANDARD
TZOFFSETFROM:+0000
TZOFFSETTO:+0000
TZNAME:UTC
DTSTART:20230101T000000
END:STANDARD
END:VTIMEZONE
BEGIN:VEVENT
DTSTART;TZID=UTC:20231208T183000
DTEND;TZID=UTC:20231208T213000
DTSTAMP:20260421T180821
CREATED:20231114T160633Z
LAST-MODIFIED:20231114T160633Z
UID:10001927-1702060200-1702071000@www.pickwickandcherry.com
SUMMARY:A World of Christmas Cookies Baking Class
DESCRIPTION:Whether you want to explore the Christmas cookies of the world or win your next cookie swap\, we’re baking some of our favorite Christmas cookies from all around the world. We’re hitting every continent in our quest\, with Christmas cookies from Germany\, Ukraine\, the Middle East\, South Africa\, Colombia\, Australia\, New Zealand\, indigenous America and more! It may be a small world\, but it has a lot of cookies in it\, and darned if we aren’t going to try as many of them as we can!\n\n\n\n\n\n\n  \n 
URL:https://www.pickwickandcherry.com/event/a-world-of-christmas-cookies-baking-class-2/
LOCATION:Pickwick & Cherry Kitchen\, 607 S Pickwick\, Rear Door\, Springfield\, MO\, 65802\, United States
CATEGORIES:Baking Class
ATTACH;FMTTYPE=image/jpeg:https://www.pickwickandcherry.com/wp-content/uploads/2023/10/christmas-cookies-of-the-world-long.jpg
END:VEVENT
END:VCALENDAR