BEGIN:VCALENDAR
VERSION:2.0
PRODID:-//Pickwick &amp; Cherry - ECPv6.14.1//NONSGML v1.0//EN
CALSCALE:GREGORIAN
METHOD:PUBLISH
X-WR-CALNAME:Pickwick &amp; Cherry
X-ORIGINAL-URL:https://www.pickwickandcherry.com
X-WR-CALDESC:Events for Pickwick &amp; Cherry
REFRESH-INTERVAL;VALUE=DURATION:PT1H
X-Robots-Tag:noindex
X-PUBLISHED-TTL:PT1H
BEGIN:VTIMEZONE
TZID:UTC
BEGIN:STANDARD
TZOFFSETFROM:+0000
TZOFFSETTO:+0000
TZNAME:UTC
DTSTART:20230101T000000
END:STANDARD
END:VTIMEZONE
BEGIN:VEVENT
DTSTART;TZID=UTC:20231007T130000
DTEND;TZID=UTC:20231007T153000
DTSTAMP:20260421T181813
CREATED:20230823T214942Z
LAST-MODIFIED:20230920T010835Z
UID:10001901-1696683600-1696692600@www.pickwickandcherry.com
SUMMARY:Pretzel Baking Class
DESCRIPTION:If there’s one thing that makes everybody happy\, it’s pretzels! We’ll try our hands at a variety of different pretzel types\, including traditional Bavarian\, parmesan peppercorn\, and sweet Scandinavian Kringla. We’ll get lots of practice shaping and twisting pretzels\, and learn various methods to achieve that unique pretzel crust. You’ll go home with lots of tasty pretzels\, and tons of great recipes and information!
URL:https://www.pickwickandcherry.com/event/pretzel-baking-class-2/
LOCATION:Pickwick & Cherry Kitchen\, 607 S Pickwick\, Rear Door\, Springfield\, MO\, 65802\, United States
CATEGORIES:Baking Class
ATTACH;FMTTYPE=image/jpeg:https://www.pickwickandcherry.com/wp-content/uploads/2021/08/28952052_10156228696214439_2917555869535174656_n-2-1024x576-1.jpeg
END:VEVENT
BEGIN:VEVENT
DTSTART;TZID=UTC:20231007T183000
DTEND;TZID=UTC:20231007T203000
DTSTAMP:20260421T181813
CREATED:20230823T214433Z
LAST-MODIFIED:20230823T214433Z
UID:10001900-1696703400-1696710600@www.pickwickandcherry.com
SUMMARY:Oktoberfest Date Night Cooking Experience
DESCRIPTION:Join us for a hands-on celebration of the food of Oktoberfest! We’ll be making beer-braised brats with sauerkraut\, lye-dipped pretzel pockets stuffed with ham and cheese\, spaetzle\, and an enormous hand-stretched apple strudel. Good enough to make you yodel\, lederhosen optional. \nEach ticket admits TWO PEOPLE. \n 
URL:https://www.pickwickandcherry.com/event/oktoberfest-date-night-cooking-experience-4/
LOCATION:Pickwick & Cherry Kitchen\, 607 S Pickwick\, Rear Door\, Springfield\, MO\, 65802\, United States
CATEGORIES:Date Night Cooking Dinner
ATTACH;FMTTYPE=image/jpeg:https://www.pickwickandcherry.com/wp-content/uploads/2023/08/AdobeStock_164723352_Preview-1-2-1-2.jpg
END:VEVENT
END:VCALENDAR