BEGIN:VCALENDAR
VERSION:2.0
PRODID:-//Pickwick &amp; Cherry - ECPv6.14.1//NONSGML v1.0//EN
CALSCALE:GREGORIAN
METHOD:PUBLISH
X-WR-CALNAME:Pickwick &amp; Cherry
X-ORIGINAL-URL:https://www.pickwickandcherry.com
X-WR-CALDESC:Events for Pickwick &amp; Cherry
REFRESH-INTERVAL;VALUE=DURATION:PT1H
X-Robots-Tag:noindex
X-PUBLISHED-TTL:PT1H
BEGIN:VTIMEZONE
TZID:UTC
BEGIN:STANDARD
TZOFFSETFROM:+0000
TZOFFSETTO:+0000
TZNAME:UTC
DTSTART:20220101T000000
END:STANDARD
END:VTIMEZONE
BEGIN:VEVENT
DTSTART;TZID=UTC:20220409T130000
DTEND;TZID=UTC:20220409T153000
DTSTAMP:20260419T132215
CREATED:20210913T000111Z
LAST-MODIFIED:20220219T234604Z
UID:10001737-1649509200-1649518200@www.pickwickandcherry.com
SUMMARY:Easter Cookie Decorating
DESCRIPTION:Get ready for Easter by learning how to make beautiful\, hand-iced sugar cookies! We’ll roll out and bake cookies\, learn about working with royal icing\, and let our creativity run wild as we decorate eggs\, bunnies\, chicks\, flowers\, and more!\nOnce the icing is dry (the next day)\, you’ll be able to take home your handiwork. This is a great class to take with friends!\n\nAt this time\, due to the size of our venue\, the nature of this event and ongoing safety concerns\, we are only permitting attendees who are fully immunized against COVID-19  due to vaccination or recent recovery. Please bring proof of vaccination status or recent recovery (14-60 days prior to the event) with you to the event.
URL:https://www.pickwickandcherry.com/event/spooky-cookie-decorating-2-2022-04-09/
LOCATION:Pickwick & Cherry Kitchen\, 607 S Pickwick\, Rear Door\, Springfield\, MO\, 65802\, United States
CATEGORIES:Baking Class
ATTACH;FMTTYPE=image/jpeg:https://www.pickwickandcherry.com/wp-content/uploads/2022/02/New-Project-32-scaled.jpg
END:VEVENT
END:VCALENDAR