BEGIN:VCALENDAR
VERSION:2.0
PRODID:-//Pickwick &amp; Cherry - ECPv6.14.1//NONSGML v1.0//EN
CALSCALE:GREGORIAN
METHOD:PUBLISH
X-WR-CALNAME:Pickwick &amp; Cherry
X-ORIGINAL-URL:https://www.pickwickandcherry.com
X-WR-CALDESC:Events for Pickwick &amp; Cherry
REFRESH-INTERVAL;VALUE=DURATION:PT1H
X-Robots-Tag:noindex
X-PUBLISHED-TTL:PT1H
BEGIN:VTIMEZONE
TZID:UTC
BEGIN:STANDARD
TZOFFSETFROM:+0000
TZOFFSETTO:+0000
TZNAME:UTC
DTSTART:20220101T000000
END:STANDARD
END:VTIMEZONE
BEGIN:VEVENT
DTSTART;TZID=UTC:20220129T130000
DTEND;TZID=UTC:20220129T153000
DTSTAMP:20260419T192233
CREATED:20211130T122614Z
LAST-MODIFIED:20211227T002556Z
UID:10001768-1643461200-1643470200@www.pickwickandcherry.com
SUMMARY:Croissants\, Puff Puff Pastry\, and Beyond Baking Class
DESCRIPTION:Learn about making amazing pastries using butter-laminated doughs. We’ll make sweet and savory pastries by making and using croissant dough\, puff pastry\, and brioche feuilletée. You’ll go home with an armload of tasty pastries and a whole new appreciation for what goes into the flaky treats you love. \nAt this time\, due to the size of our venue\, the nature of this event and ongoing safety concerns\, we are only permitting attendees who are fully vaccinated against COVID-19. Please bring proof of vaccination status with you to the event.
URL:https://www.pickwickandcherry.com/event/croissants-puff-puff-pastry-and-beyond-baking-class/
LOCATION:Pickwick & Cherry Kitchen\, 607 S Pickwick\, Rear Door\, Springfield\, MO\, 65802\, United States
CATEGORIES:Baking Class
ATTACH;FMTTYPE=image/jpeg:https://www.pickwickandcherry.com/wp-content/uploads/2021/11/New-Project-28.jpg
END:VEVENT
BEGIN:VEVENT
DTSTART;TZID=UTC:20220129T183000
DTEND;TZID=UTC:20220129T203000
DTSTAMP:20260419T192233
CREATED:20210411T221347Z
LAST-MODIFIED:20221125T051848Z
UID:10001688-1643481000-1643488200@www.pickwickandcherry.com
SUMMARY:Italian Date Night II Cooking Experience
DESCRIPTION:Our most popular Italian menu! We’re cooking up tangy shrimp scampi\, making mushroom ravioli from scratch and dousing it in marsala cream sauce\, creating an authentic Caesar salad\, and finishing the meal with a chocolate-hazelnut (think Nutella) torte. Buon appetito! \nEach ticket admits TWO PEOPLE. \nAt this time\, due to the size of our venue\, the nature of this event and ongoing safety concerns\, we are only permitting attendees who are fully vaccinated against COVID-19. Please bring proof of vaccination status with you to the event.
URL:https://www.pickwickandcherry.com/event/italian-date-night-ii-2021-05-22-2021-09-11-2022-01-29/
LOCATION:Pickwick & Cherry Kitchen\, 607 S Pickwick\, Rear Door\, Springfield\, MO\, 65802\, United States
CATEGORIES:Date Night Cooking Dinner
ATTACH;FMTTYPE=image/jpeg:https://www.pickwickandcherry.com/wp-content/uploads/2021/04/AdobeStock_164723352_Preview-6.jpg
END:VEVENT
END:VCALENDAR