BEGIN:VCALENDAR
VERSION:2.0
PRODID:-//Pickwick &amp; Cherry - ECPv6.14.1//NONSGML v1.0//EN
CALSCALE:GREGORIAN
METHOD:PUBLISH
X-WR-CALNAME:Pickwick &amp; Cherry
X-ORIGINAL-URL:https://www.pickwickandcherry.com
X-WR-CALDESC:Events for Pickwick &amp; Cherry
REFRESH-INTERVAL;VALUE=DURATION:PT1H
X-Robots-Tag:noindex
X-PUBLISHED-TTL:PT1H
BEGIN:VTIMEZONE
TZID:UTC
BEGIN:STANDARD
TZOFFSETFROM:+0000
TZOFFSETTO:+0000
TZNAME:UTC
DTSTART:20210101T000000
END:STANDARD
END:VTIMEZONE
BEGIN:VEVENT
DTSTART;TZID=UTC:20210814T183000
DTEND;TZID=UTC:20210814T210000
DTSTAMP:20260419T072937
CREATED:20210614T212223Z
LAST-MODIFIED:20221125T053321Z
UID:10001732-1628965800-1628974800@www.pickwickandcherry.com
SUMMARY:Braai the Beloved Country Date Night Cooking Experience
DESCRIPTION:Join us for a lavish feast inspired by braai\, the traditional South African barbeque. We’ll prepare and devour peri-peri shrimp\, curried chicken & apricot sosoties\, soy and chutney pork belly\, spicy grilled pineapple\, watermelon & tomato salad\, coconut curry cauliflower\, and malva pudding for dessert.\n\nEach ticket admits TWO PEOPLE. \nAt this time\, due to the size of our venue\, the nature of this event and ongoing safety concerns\, we are only permitting attendees who are fully vaccinated against COVID-19. Please bring proof of vaccination status with you to the event.
URL:https://www.pickwickandcherry.com/event/braai-the-beloved-country-date-night-cooking-experience-2021-08-07/
LOCATION:Pickwick & Cherry Kitchen\, 607 S Pickwick\, Rear Door\, Springfield\, MO\, 65802\, United States
CATEGORIES:Date Night Cooking Dinner
ATTACH;FMTTYPE=image/jpeg:https://www.pickwickandcherry.com/wp-content/uploads/2021/06/AdobeStock_164723352_Preview-1-1-1.jpg
END:VEVENT
END:VCALENDAR