BEGIN:VCALENDAR
VERSION:2.0
PRODID:-//Pickwick &amp; Cherry - ECPv6.14.1//NONSGML v1.0//EN
CALSCALE:GREGORIAN
METHOD:PUBLISH
X-ORIGINAL-URL:https://www.pickwickandcherry.com
X-WR-CALDESC:Events for Pickwick &amp; Cherry
REFRESH-INTERVAL;VALUE=DURATION:PT1H
X-Robots-Tag:noindex
X-PUBLISHED-TTL:PT1H
BEGIN:VTIMEZONE
TZID:UTC
BEGIN:STANDARD
TZOFFSETFROM:+0000
TZOFFSETTO:+0000
TZNAME:UTC
DTSTART:20210101T000000
END:STANDARD
END:VTIMEZONE
BEGIN:VEVENT
DTSTART;TZID=UTC:20210612T130000
DTEND;TZID=UTC:20210612T160000
DTSTAMP:20260419T065641
CREATED:20210412T214416Z
LAST-MODIFIED:20210412T214636Z
UID:10001725-1623502800-1623513600@www.pickwickandcherry.com
SUMMARY:Tart It Up Baking Class
DESCRIPTION:We’re stepping into summer by making tons of tasty tarts in this terrific class. We’ll make a multi-colored Polish Royal Mazurka tart\, a raspberry Linzer tort\, a modern lemon meringue tart\, and a beautiful fruit tart filled with pastry cream. \nTicket admits ONE. \nAt this time\, due to the size of our venue\, the nature of this event and ongoing safety concerns\, we are only permitting attendees who are fully vaccinated against COVID-19. Please bring proof of vaccination status with you to the event.
URL:https://www.pickwickandcherry.com/event/tart-it-up-baking-class/
LOCATION:Pickwick & Cherry Kitchen\, 607 S Pickwick\, Rear Door\, Springfield\, MO\, 65802\, United States
CATEGORIES:Baking Class
ATTACH;FMTTYPE=image/jpeg:https://www.pickwickandcherry.com/wp-content/uploads/2021/04/New-Project-17.jpg
END:VEVENT
END:VCALENDAR