BEGIN:VCALENDAR
VERSION:2.0
PRODID:-//Pickwick &amp; Cherry - ECPv6.14.1//NONSGML v1.0//EN
CALSCALE:GREGORIAN
METHOD:PUBLISH
X-WR-CALNAME:Pickwick &amp; Cherry
X-ORIGINAL-URL:https://www.pickwickandcherry.com
X-WR-CALDESC:Events for Pickwick &amp; Cherry
REFRESH-INTERVAL;VALUE=DURATION:PT1H
X-Robots-Tag:noindex
X-PUBLISHED-TTL:PT1H
BEGIN:VTIMEZONE
TZID:UTC
BEGIN:STANDARD
TZOFFSETFROM:+0000
TZOFFSETTO:+0000
TZNAME:UTC
DTSTART:20210101T000000
END:STANDARD
END:VTIMEZONE
BEGIN:VEVENT
DTSTART;TZID=UTC:20210529T183000
DTEND;TZID=UTC:20210529T203000
DTSTAMP:20260423T064256
CREATED:20210411T224701Z
LAST-MODIFIED:20210411T234845Z
UID:10001701-1622313000-1622320200@www.pickwickandcherry.com
SUMMARY:Greek Date Night
DESCRIPTION:Take your date on a culinary trip around the Greek Isles! We’ll be making Arni me Aginares (stewed lamb with artichokes in egg-lemon sauce)\, Spanakopita (spinach and feta in crispy phyllo)\, Horiatiki Greek village salad\, and Galaktoboureko\, a delicious semolina-custard pastry. After we prepare our feast\, you’ll dine while we do the dishes! \nEach ticket admits TWO ADULTS. \nAt this time\, due to the size of our venue\, the nature of this event and ongoing safety concerns\, we are only permitting attendees who are fully vaccinated against COVID-19. Please bring proof of vaccination status with you to the event.
URL:https://www.pickwickandcherry.com/event/greek-date-night-2021-05-29/
LOCATION:Pickwick & Cherry Kitchen\, 607 S Pickwick\, Rear Door\, Springfield\, MO\, 65802\, United States
CATEGORIES:Date Night Cooking Dinner
ATTACH;FMTTYPE=image/jpeg:https://www.pickwickandcherry.com/wp-content/uploads/2021/04/AdobeStock_164723352_Preview-1.jpg
END:VEVENT
END:VCALENDAR