BEGIN:VCALENDAR
VERSION:2.0
PRODID:-//Pickwick &amp; Cherry - ECPv6.14.1//NONSGML v1.0//EN
CALSCALE:GREGORIAN
METHOD:PUBLISH
X-ORIGINAL-URL:https://www.pickwickandcherry.com
X-WR-CALDESC:Events for Pickwick &amp; Cherry
REFRESH-INTERVAL;VALUE=DURATION:PT1H
X-Robots-Tag:noindex
X-PUBLISHED-TTL:PT1H
BEGIN:VTIMEZONE
TZID:UTC
BEGIN:STANDARD
TZOFFSETFROM:+0000
TZOFFSETTO:+0000
TZNAME:UTC
DTSTART:20210101T000000
END:STANDARD
END:VTIMEZONE
BEGIN:VEVENT
DTSTART;TZID=UTC:20210522T130000
DTEND;TZID=UTC:20210522T160000
DTSTAMP:20260422T190156
CREATED:20210412T101029Z
LAST-MODIFIED:20221125T053534Z
UID:10001723-1621688400-1621699200@www.pickwickandcherry.com
SUMMARY:It's All About Choux: Cream Puffs\, Eclairs and More Baking Class
DESCRIPTION:We’ll be exploring the full range of possibilities that pate de choux (the egg-y dough that cream puffs and eclairs are made out of) presents us in creating delectable\, whimsical pastries. We’ll make eclairs filled with decadent Italian Buttercream and topped with chocolate ganache\, pretzel eclairs filled with caramel cream\, and even try our hand at zeppole\, a fried puff filled with cannoli cream. With pate de choux\, the sky’s the limit! \nEach ticket admits ONE. \nAt this time\, we are only permitting attendees who are fully vaccinated against COVID-19. Please bring proof of vaccination status with you to the event.
URL:https://www.pickwickandcherry.com/event/its-all-about-choux-cream-puffs-eclairs-and-more-baking-class/
LOCATION:Pickwick & Cherry Kitchen\, 607 S Pickwick\, Rear Door\, Springfield\, MO\, 65802\, United States
CATEGORIES:Baking Class
ATTACH;FMTTYPE=image/jpeg:https://www.pickwickandcherry.com/wp-content/uploads/2021/04/23380016_10155863251884439_2386522270633913059_n-2-1024x576-1.jpg
END:VEVENT
END:VCALENDAR